BEGIN:VCALENDAR
VERSION:2.0
PRODID:-//ChamberMaster//Event Calendar 2.0//EN
METHOD:PUBLISH
X-PUBLISHED-TTL:P3D
REFRESH-INTERVAL:P3D
CALSCALE:GREGORIAN
BEGIN:VEVENT
DTSTART:20180923T180000Z
DTEND:20180923T220000Z
X-MICROSOFT-CDO-ALLDAYEVENT:FALSE
SUMMARY:Greystone Programs: 29th Annual International Wine Showcase and Auction
DESCRIPTION:Greystone Programs will host its 29th Annual International Wine Showcase and Auction on Sunday\, September 23. This year's event will be a whole lot more colorful as it will showcase the perspective of the individuals it supports with an art exhibit featuring re-creations of famous masterpieces by participants of Greystone Programs' Expressive Arts Program.  In addition\, attendees will have the opportunity to taste international and local wines\, elevated cuisine\, enjoy a Dutchess Cigar Bar\, live musical entertainment from composer and  bassist Damon Banks and live and silent auctions designed to raise funds for children\, adults and families affected by autism and other developmental disabilities.  For tickets\, call Peter Sestito\, Director of Communications at (845) 452-5772. Tickets can also be purchased online at www.greystoneprograms.org. The Tickets are $150.
X-ALT-DESC;FMTTYPE=text/html:<span style="color:#212121"><span style="font-family:calibri\,sans-serif"><span style="font-size:11.0pt">Greystone Programs will host its 29<sup>th</sup>&nbsp\;Annual International Wine Showcase and Auction on Sunday\, September 23. This year&rsquo\;s event will be a whole lot more colorful as it will showcase the perspective of the individuals it supports with an art exhibit featuring re-creations of famous masterpieces by participants of Greystone Programs&rsquo\; Expressive Arts Program.&nbsp\; In addition\, attendees will have the opportunity to taste international and local wines\, elevated cuisine\, enjoy a Dutchess Cigar Bar\, live musical entertainment from composer and &nbsp\;bassist Damon Banks and live and silent auctions designed to raise funds for children\, adults and families affected by autism and other developmental disabilities. &nbsp\;For tickets\, call Peter Sestito\, Director of Communications at (845) 452-5772. Tickets can also be purchased online at&nbsp\;</span></span></span><span style="font-family:calibri\,sans-serif"><span style="font-size:11.0pt"><a href="http://www.greystoneprograms.org/" target="_blank">www.greystoneprograms.org</a></span></span><span style="color:#212121"><span style="font-family:calibri\,sans-serif"><span style="font-size:11.0pt">. The Tickets are $150.</span></span></span>
LOCATION:The Grandview 176 Rinaldi Boulevard\, Poughkeepsie\, NY 12601
UID:e.2770.10479671
SEQUENCE:3
DTSTAMP:20260425T131443Z
URL:https://business.dcrcoc.org/events/details/greystone-programs-29th-annual-international-wine-showcase-and-auction-10479671
END:VEVENT

END:VCALENDAR
