BEGIN:VCALENDAR
VERSION:2.0
PRODID:-//ChamberMaster//Event Calendar 2.0//EN
METHOD:PUBLISH
X-PUBLISHED-TTL:P3D
REFRESH-INTERVAL:P3D
CALSCALE:GREGORIAN
BEGIN:VEVENT
DTSTART:20190511T133000Z
DTEND:20190511T203000Z
X-MICROSOFT-CDO-ALLDAYEVENT:FALSE
SUMMARY:Greystone Programs' Leap for Autism
DESCRIPTION:Skydivers will take to the sky in support of autism awareness for the fourth annual "Leap for Autism" event hosted by Greystone Programs. The thrilling skydive adventure will take place on Saturday\, May 11\, from 9:30 a.m. to 4:30 p.m. at Skydive the Ranch in Gardiner\, NY\, with a rain/wind date of Saturday\, May 11. The event\, taking place during Autism Awareness Month\, will help raise funds and awareness. To register for a tandem leap\, a virtual leap or to sponsor a leaper\, visit: www.gvgb.co/LeapforAutism2019. Registration and fundraising minimums required to leap.
X-ALT-DESC;FMTTYPE=text/html:Skydivers will take to the sky in support of autism awareness for the fourth annual &ldquo\;Leap for Autism&rdquo\; event hosted by Greystone Programs. The thrilling skydive adventure will take place on Saturday\, May 11\, from 9:30 a.m. to 4:30 p.m. at Skydive the Ranch in Gardiner\, NY\, with a rain/wind date of Saturday\, May 11. The event\, taking place during Autism Awareness Month\, will help raise funds and awareness. To register for a tandem leap\, a virtual leap or to sponsor a leaper\, visit: www.gvgb.co/LeapforAutism2019. Registration and fundraising minimums required to leap.
LOCATION:Skydive the Ranch 55 Sand Hill Road Gardiner\, New York 12525
UID:e.2770.10480744
SEQUENCE:3
DTSTAMP:20260423T044249Z
URL:https://business.dcrcoc.org/events/details/greystone-programs-leap-for-autism-10480744
END:VEVENT

END:VCALENDAR
