BEGIN:VCALENDAR
VERSION:2.0
PRODID:-//ChamberMaster//Event Calendar 2.0//EN
METHOD:PUBLISH
X-PUBLISHED-TTL:P3D
REFRESH-INTERVAL:P3D
CALSCALE:GREGORIAN
BEGIN:VEVENT
DTSTART:20190427T133000Z
DTEND:20190427T203000Z
X-MICROSOFT-CDO-ALLDAYEVENT:FALSE
SUMMARY:Greystone Prorgrams' Leap for Autism
DESCRIPTION:Skydivers will take to the sky in support of autism awareness for the fourth annual "Leap for Autism" event hosted by Greystone Programs. The thrilling skydive adventure will take place on Saturday\, April 27\, from 9:30 a.m. to 4:30 p.m. at Skydive the Ranch in Gardiner\, NY\, with a rain/wind date of Saturday\, May 11. The event\, taking place during Autism Awareness Month\, will help raise funds and awareness. To register for a tandem leap\, a virtual leap or to sponsor a leaper\, visit: www.gvgb.co/LeapforAutism2019. Registration and fundraising minimums required to leap.
X-ALT-DESC;FMTTYPE=text/html:Skydivers will take to the sky in support of autism awareness for the fourth annual &ldquo\;Leap for Autism&rdquo\; event hosted by Greystone Programs. The thrilling skydive adventure will take place on Saturday\, April 27\, from 9:30 a.m. to 4:30 p.m. at Skydive the Ranch in Gardiner\, NY\, with a rain/wind date of Saturday\, May 11. The event\, taking place during Autism Awareness Month\, will help raise funds and awareness. To register for a tandem leap\, a virtual leap or to sponsor a leaper\, visit: www.gvgb.co/LeapforAutism2019. Registration and fundraising minimums required to leap.
LOCATION:Skydive the Ranch 55 Sand Hill Road Gardiner\, NY 12525
UID:e.2770.10480538
SEQUENCE:3
DTSTAMP:20260423T062408Z
URL:https://business.dcrcoc.org/events/details/greystone-prorgrams-leap-for-autism-10480538
END:VEVENT

END:VCALENDAR
