BEGIN:VCALENDAR
VERSION:2.0
PRODID:-//ChamberMaster//Event Calendar 2.0//EN
METHOD:PUBLISH
X-PUBLISHED-TTL:P3D
REFRESH-INTERVAL:P3D
CALSCALE:GREGORIAN
BEGIN:VEVENT
DTSTART:20201018T160000Z
DTEND:20201025T213000Z
X-MICROSOFT-CDO-ALLDAYEVENT:FALSE
SUMMARY:Greystone's 2020 Mission Moment Online Auction
DESCRIPTION:Greystone's 2020 Mission Moment Online Auction kicks off on October 18\, 2020 at noon and will conclude on October 25\, 2020 at 5:30pm. This exciting new event is open to everyone and is free to attend. Fantastic auction items include fabulous wine tastings and unique dining experiences\, a gorgeous vacation beach home and a fan ZOOM meeting with a sports icon!\n\n\n\nNew York State has drastically cut funding and you can help us by participating in Greystone's 2020 Mission Moment Online Auction! Be an early bird and register by Friday\, October 2\, 2020 to be automatically entered to win a $100 credit toward a winning bid of $250 or more.
X-ALT-DESC;FMTTYPE=text/html:<div><span style="font-size:16px"><span style="font-family:arial\,helvetica\,sans-serif"><span style="color:#0000CD"><strong>Greystone&rsquo\;s 2020 Mission Moment Online Auction kicks off on October 18\, 2020 at noon and will conclude on October 25\, 2020 at 5:30pm.</strong></span> This exciting new event is open to everyone and is free to attend. Fantastic auction items include fabulous wine tastings and unique dining experiences\, a gorgeous vacation beach home and a fan ZOOM meeting with a sports icon!<br />\n<br />\nNew York State has drastically cut funding and you can help us by participating in Greystone&rsquo\;s 2020 Mission Moment Online Auction! <span style="color:#0000CD"><strong>Be an early bird and register by Friday\, October 2\, 2020 to be automatically entered to win a $100 credit toward a winning bid of $250 or more.</strong></span></span></span></div>\n
LOCATION:https://www.charityauctionstoday.com/auctions/GPIMissionMoment2020-14016
UID:e.2770.10484477
SEQUENCE:3
DTSTAMP:20260421T223620Z
URL:https://business.dcrcoc.org/events/details/greystone-s-2020-mission-moment-online-auction-10484477
END:VEVENT

END:VCALENDAR
