BEGIN:VCALENDAR
VERSION:2.0
PRODID:-//ChamberMaster//Event Calendar 2.0//EN
METHOD:PUBLISH
X-PUBLISHED-TTL:P3D
REFRESH-INTERVAL:P3D
CALSCALE:GREGORIAN
BEGIN:VEVENT
DTSTART:20200612T120000Z
DTEND:20200612T133000Z
X-MICROSOFT-CDO-ALLDAYEVENT:FALSE
SUMMARY:Guidance on Liquor Licenses during Phase 2
DESCRIPTION:Is your establishment ready for Phase 2?\n\n\n\nThis complimentary webinar presented by the Dutchess County Regional Chamber of Commerce will provide guidance regarding New York State laws on liquor licenses for restaurants\, bars\, breweries\, and venues who are reopening with outdoor seating.\n\n\n\nPresented by Jessica J. Glass\, partner at Stenger\, Roberts\, Davis & Diamond\, LLP/SRDD Law.\n\n\n\nPlease register in advance\, as space is limited.\n\n\n\nTo Register\, Click HERE\n\n\n\nThank you to our sponsor Stenger\, Roberts\, Davis & Diamond\, LLP/SRDD Law.
X-ALT-DESC;FMTTYPE=text/html:<br />\n<span style="font-size:18px\;"><span style="font-family:times new roman\;"><span style="color:#232333\;">Is your establishment ready for Phase 2?<br />\n<br />\nThis complimentary webinar presented by the Dutchess County Regional Chamber of Commerce will provide guidance regarding New York State laws on liquor licenses for restaurants\, bars\, breweries\, and venues who are reopening with outdoor seating.<br />\n<br />\nPresented by Jessica J. Glass\, partner at Stenger\, Roberts\, Davis &amp\; Diamond\, LLP/SRDD Law.<br />\n<br />\nPlease register in advance\, as space is limited.<br />\n<br />\nTo Register\, Click</span><span style="color:#0000CD\;">&nbsp\;</span><strong><a href="https://nam04.safelinks.protection.outlook.com/?url=https%3A%2F%2Fus02web.zoom.us%2Fwebinar%2Fregister%2FWN_kzFH_nHoRPKU-9-XOIndNw&amp\;data=02%7C01%7Cchelsea%40dcrcoc.org%7Cc4101f3ebdc945fb586408d80c881016%7C2f12d5574b0742e1bc30171797d71f6b%7C1%7C0%7C637273125833354459&amp\;sdata=vVbUb3LMDftZvmKw5aBqANqdC8hODP9MuTy61fYYnWs%3D&amp\;reserved=0" target="_blank"><span style="color:#0000CD\;">HERE</span></a></strong><br />\n<br />\n<span style="color:#232333\;">Thank you to our sponsor </span><a href="https://srddlaw.com/" target="_blank"><span style="color:#0000FF\;"><strong>Stenger\, Roberts\, Davis &amp\; Diamond\, LLP/SRDD Law</strong></span></a><span style="color:#232333\;">. </span></span></span>
LOCATION:
UID:e.2770.10483307
SEQUENCE:3
DTSTAMP:20260422T051103Z
URL:https://business.dcrcoc.org/events/details/guidance-on-liquor-licenses-during-phase-2-10483307
END:VEVENT

END:VCALENDAR
