BEGIN:VCALENDAR
VERSION:2.0
PRODID:-//ChamberMaster//Event Calendar 2.0//EN
METHOD:PUBLISH
X-PUBLISHED-TTL:P3D
REFRESH-INTERVAL:P3D
CALSCALE:GREGORIAN
BEGIN:VEVENT
DTSTART;VALUE=DATE:20200505
DTEND;VALUE=DATE:20200506
TRANSP:TRANSPARENT
X-MICROSOFT-CDO-ALLDAYEVENT:TRUE
SUMMARY:Guideline Strategies for reopening the Hudson Valley Hospitality Industry
DESCRIPTION:Join Joe Bonura Jr. and Mike Bonura for a webinar discussion on "Guideline Strategies for reopening the Hudson Valley Hospitality Industry"\n\n\n\nClick Here To Register\n\n\nWe know that it is a very challenging time for the hospitality industry in the Hudson Valley. Join us as we discuss guideline strategies for reopening to help Governor Cuomo with his decision on when and how we reopening.\n\nWe look forward to hearing from you. Please submit your questions or comments. We will send the link once registering is complete.\n\nEXECUTIVE SUMMARY\n\nThree Phased Approach to Reopening the Hospitality Industry in the Mid-Hudson Region that deals with Strict Physical Distancing Guidelines\, Capacity\, Employees\, Food & Beverage Service\, Sanitation\, Guests and Timing.
X-ALT-DESC;FMTTYPE=text/html:<div class="freebirdFormviewerViewHeaderTitleRow" style="align-items: center\; background-color: transparent\; color: rgb(32\, 33\, 36)\; display: flex\; flex-wrap: wrap\; font-family: Roboto\, RobotoDraft\, Helvetica\, Arial\, sans-serif\; font-size: 16px\; font-variant-numeric: normal\; font-variant-east-asian: normal\; justify-content: space-between\; padding-left: 0px\; padding-right: 0px\;">\n<div aria-level="1" class="freebirdFormviewerViewHeaderTitle exportFormTitle freebirdCustomFont" dir="auto" role="heading" style="box-sizing: border-box\; font-size: 32px\; line-height: 42.66px\; max-width: 590px\; min-width: 0px\;"><strong><span style="font-size:18px\;">Join Joe Bonura Jr. and Mike Bonura for a webinar discussion on &quot\;Guideline Strategies for reopening the Hudson Valley Hospitality Industry&quot\;</span></strong><br />\n<br />\n<em>Click <strong><a href="https://docs.google.com/forms/d/e/1FAIpQLScOiQA0HqjWZSzSl9KQUIIC8NmD4IP6PNHYeBKTkpYa4bZV7A/viewform" target="_blank"><span style="color:#0000FF\;">Here</span></a><span style="color:#0000FF\;">&nbsp\;</span></strong>To Register</em></div>\n</div>\n\n<div class="freebirdFormviewerViewHeaderDescription" dir="auto" style="background-color: transparent\; color: rgb(32\, 33\, 36)\; font-family: Roboto\, Arial\, sans-serif\; font-size: 14px\; font-variant-numeric: normal\; font-variant-east-asian: normal\; letter-spacing: 0.2px\; line-height: 20px\; margin-top: 12px\; padding-left: 0px\; padding-right: 0px\; white-space: pre-wrap\;">We know that it is a very challenging time for the hospitality industry in the Hudson Valley. Join us as we discuss guideline strategies for reopening to help Governor Cuomo with his decision on when and how we reopening.<br style="letter-spacing: 0.2px\; line-height: 20px\; margin-top: 0px\; padding-left: 0px\; padding-right: 0px\;" />\nWe look forward to hearing from you. Please submit your questions or comments. We will send the link once registering is complete.<br style="letter-spacing: 0.2px\; line-height: 20px\; margin-top: 0px\; padding-left: 0px\; padding-right: 0px\;" />\nEXECUTIVE SUMMARY<br style="letter-spacing: 0.2px\; line-height: 20px\; margin-top: 0px\; padding-left: 0px\; padding-right: 0px\;" />\nThree Phased Approach to Reopening the Hospitality Industry in the Mid-Hudson Region that deals with Strict Physical Distancing Guidelines\, Capacity\, Employees\, Food &amp\; Beverage Service\, Sanitation\, Guests and Timing.</div>\n
LOCATION:
UID:e.2770.10483275
SEQUENCE:3
DTSTAMP:20260422T064102Z
URL:https://business.dcrcoc.org/events/details/guideline-strategies-for-reopening-the-hudson-valley-hospitality-industry-10483275
END:VEVENT

END:VCALENDAR
