BEGIN:VCALENDAR
VERSION:2.0
PRODID:-//ChamberMaster//Event Calendar 2.0//EN
METHOD:PUBLISH
X-PUBLISHED-TTL:P3D
REFRESH-INTERVAL:P3D
CALSCALE:GREGORIAN
BEGIN:VEVENT
DTSTART:20181022T113000Z
DTEND:20181022T183000Z
X-MICROSOFT-CDO-ALLDAYEVENT:FALSE
SUMMARY:H.G. Page - Katz Private Label Roadshow/Better Building Practices with Rick Arnold
DESCRIPTION:Better Building Practices with Rick Arnold\n\nMonday\, October 22\n\n7:30am-2:30pm\n\nGold's Gym\n\n258 Titusville Rd.\n\nPoughkeepsie\, NY 12603\n\n\n\nMASTER YOUR CRAFT If you believe in quality craftsmanship\, don't miss this FREE event!\n\nPage Lumber\, with support from Boral \, is proud to offer\n\none day of hands-on building clinics with Rick Arnold\,\n\nremodeling specialist and a nationally recognized author\n\nand teacher.\n\nThese clinics will feature TruExterior  Siding & Trim\, as well as Versetta Stone \,\n\nGrayne  engineered shingles\, Kleer  trimboard\, and SturdiMount  mounting\n\nblocks. Don't miss this opportunity to keep up with new technology that is\n\nchanging the construction industry\, and learn both fundamental and advanced\n\ncarpentry techniques that increase productivity\, reduce call-backs\, and simplify\n\ntrim and siding installation.
X-ALT-DESC;FMTTYPE=text/html:<span style="font-size:14px"><strong>Better Building Practices with Rick Arnold</strong></span><br />\nMonday\, October 22<br />\n7:30am-2:30pm<br />\nGold&rsquo\;s Gym<br />\n258 Titusville Rd.<br />\nPoughkeepsie\, NY 12603<br />\n<br />\nMASTER YOUR CRAFT If you believe in quality craftsmanship\, don&rsquo\;t miss this FREE event!<br />\nPage Lumber\, with support from Boral&reg\;\, is proud to offer<br />\none day of hands-on building clinics with Rick Arnold\,<br />\nremodeling specialist and a nationally recognized author<br />\nand teacher.<br />\nThese clinics will feature TruExterior&reg\; Siding &amp\; Trim\, as well as Versetta Stone&reg\;\,<br />\nGrayne&reg\; engineered shingles\, Kleer&reg\; trimboard\, and SturdiMount&reg\; mounting<br />\nblocks. Don&rsquo\;t miss this opportunity to keep up with new technology that is<br />\nchanging the construction industry\, and learn both fundamental and advanced<br />\ncarpentry techniques that increase productivity\, reduce call-backs\, and simplify<br />\ntrim and siding installation.
LOCATION:Gold's Gym 258 Titusville Rd. Poughkeepsie\, NY 12603
UID:e.2770.10479720
SEQUENCE:3
DTSTAMP:20260425T131612Z
URL:https://business.dcrcoc.org/events/details/h-g-page-katz-private-label-roadshow-better-building-practices-with-rick-arnold-10479720
END:VEVENT

END:VCALENDAR
