BEGIN:VCALENDAR
VERSION:2.0
PRODID:-//ChamberMaster//Event Calendar 2.0//EN
METHOD:PUBLISH
X-PUBLISHED-TTL:P3D
REFRESH-INTERVAL:P3D
CALSCALE:GREGORIAN
BEGIN:VEVENT
DTSTART:20181028T180000Z
DTEND:20181028T200000Z
X-MICROSOFT-CDO-ALLDAYEVENT:FALSE
SUMMARY:Halloween Bash at the Mid-Hudson Civic Center
DESCRIPTION:On October 28th from 2P.M. to 4P.M.\, join us for chills and thrills at our HALLOWEEN BASH! Bring your little monster in a costume and receive a Halloween goodie bag! Rentals - $5 Child Admission - $5 Adult Admission - $10
X-ALT-DESC;FMTTYPE=text/html:On October 28th from 2P.M. to 4P.M.\, join us for chills and thrills at our HALLOWEEN BASH! Bring your little monster in a costume and receive a Halloween goodie bag! Rentals - $5 Child Admission - $5 Adult Admission - $10
LOCATION:Mid-Hudson Civic Center 14 Civic Center Plaza Poughkeepsie\, NY 12601
UID:e.2770.10479817
SEQUENCE:3
DTSTAMP:20260425T114904Z
URL:https://business.dcrcoc.org/events/details/halloween-bash-at-the-mid-hudson-civic-center-10479817
END:VEVENT

END:VCALENDAR
