BEGIN:VCALENDAR
VERSION:2.0
PRODID:-//ChamberMaster//Event Calendar 2.0//EN
METHOD:PUBLISH
X-PUBLISHED-TTL:P3D
REFRESH-INTERVAL:P3D
CALSCALE:GREGORIAN
BEGIN:VEVENT
DTSTART:20180408T120000Z
DTEND:20180408T150000Z
X-MICROSOFT-CDO-ALLDAYEVENT:FALSE
SUMMARY:Hand in Hand Run Walk
DESCRIPTION:Sunday\, April 8th is the 13th Annual Maplebrook School Hand-in-Hand Run/Walk to benefit the Panichi Family Center for Communication and Learning.\n\nOne of the first of the season this 5K Run/Walk is truly a "run with a view." The race begins on the Poughkeepsie side of the Walkway Over the Hudson\, proceeds over the Walkway and back.\n\nRegistration begins at 8AM on the Poughkeepsie side of the Walkway with the race starting at 9:30 AM.\n\nFor registration and sponsorship information\, please call Maplebrook School at 845-373-9511 or check us out on Facebook.\n\nAll race registrants will be entered into a raffle for Yankee box seat tickets and the first 125 registered runners will receive an event T-shirt! Please come support the Panichi Family Center for Communication and Learning. The 13th Annual Hand-in-Hand Run/Walk :  A day of fun\, excitement and prizes   all for a good cause.
X-ALT-DESC;FMTTYPE=text/html:Sunday\, April 8<sup>th</sup> is the 13<sup>th</sup> Annual Maplebrook School Hand-in-Hand Run/Walk to benefit the Panichi Family Center for Communication and Learning.<br />\nOne of the first of the season this 5K Run/Walk is truly a &ldquo\;run with a view.&rdquo\; The race begins on the Poughkeepsie side of the Walkway Over the Hudson\, proceeds over the Walkway and back.<br />\nRegistration begins at 8AM on the Poughkeepsie side of the Walkway with the race starting at 9:30 AM.<br />\nFor registration and sponsorship information\, please call Maplebrook School at 845-373-9511 or check us out on Facebook.<br />\nAll race registrants will be entered into a raffle for Yankee box seat tickets and the first 125 registered runners will receive an event T-shirt! Please come support the Panichi Family Center for Communication and Learning. The 13<sup>th</sup> Annual Hand-in-Hand Run/Walk :&nbsp\; A day of fun\, excitement and prizes &ndash\; all for a good cause.<br />\n&nbsp\;
LOCATION:Walkway over the Hudson (East Side)
UID:e.2770.10477142
SEQUENCE:3
DTSTAMP:20260425T194942Z
URL:https://business.dcrcoc.org/events/details/hand-in-hand-run-walk-04-08-2018-10477142
END:VEVENT

END:VCALENDAR
