BEGIN:VCALENDAR
VERSION:2.0
PRODID:-//ChamberMaster//Event Calendar 2.0//EN
METHOD:PUBLISH
X-PUBLISHED-TTL:P3D
REFRESH-INTERVAL:P3D
CALSCALE:GREGORIAN
BEGIN:VEVENT
DTSTART:20190429T130000Z
DTEND:20190429T160000Z
X-MICROSOFT-CDO-ALLDAYEVENT:FALSE
SUMMARY:Harassment Free Workplaces
DESCRIPTION:The quality of the workplace contributes to employee satisfaction\, customer retention\, productivity and whether or not a business experiences higher levels of profitability.\n\n \n\nThis program is designed to provide managers and business owners the understanding of: \n\n  How to recognize harassment\n\n  Special responsibilities to report harassment\n\n  New requirements of all NY State employers\n\n  Preventing retaliation\n\n  Sample draft of NY state sexual harassment policy & complaint form
X-ALT-DESC;FMTTYPE=text/html:<p><span style="font-size:16px"><span style="font-family:calibri">The quality of the workplace contributes to&nbsp\;</span><span style="font-family:calibri">employee satisfaction\, customer retention\, productivity and whether or not a business&nbsp\;</span><span style="font-family:calibri">experiences higher levels of profitability.</span><br />\n&nbsp\;<br />\n<span style="font-family:calibri">This program is designed to provide managers and business owners the understanding of: </span><br />\n<span style="color:black"><span style="font-family:symbol">&middot\;</span></span>&nbsp\;<span style="font-family:calibri">How to recognize harassment</span><br />\n<span style="color:black"><span style="font-family:symbol">&middot\;</span></span>&nbsp\;<span style="font-family:calibri">Special responsibilities to report harassment</span><br />\n<span style="color:black"><span style="font-family:symbol">&middot\;</span></span>&nbsp\;<span style="font-family:calibri">New requirements of all NY State employers</span><br />\n<span style="color:black"><span style="font-family:symbol">&middot\;</span></span>&nbsp\;<span style="font-family:calibri">Preventing retaliation</span><br />\n<span style="color:black"><span style="font-family:symbol">&middot\;</span></span>&nbsp\;<span style="font-family:calibri">Sample draft of NY state sexual harassment policy &amp\; complaint form</span></span><br />\n&nbsp\;</p>\n
LOCATION:Think Dutchess 3 Neptune Road\, Suite A21 Poughkeepsie\, NY 12601
UID:e.2770.10479740
SEQUENCE:3
DTSTAMP:20260423T062250Z
URL:https://business.dcrcoc.org/events/details/harassment-free-workplaces-10479740
END:VEVENT

END:VCALENDAR
