BEGIN:VCALENDAR
VERSION:2.0
PRODID:-//ChamberMaster//Event Calendar 2.0//EN
METHOD:PUBLISH
X-PUBLISHED-TTL:P3D
REFRESH-INTERVAL:P3D
CALSCALE:GREGORIAN
BEGIN:VEVENT
DTSTART:20171118T180000Z
DTEND:20171118T200000Z
X-MICROSOFT-CDO-ALLDAYEVENT:FALSE
SUMMARY:Harvest Tasting At Fishkill Farms
DESCRIPTION:Taste the bounty of Fishkill Farms! We will be offering tastings of different apple varieties we grow\, from well-known classics to rare heirlooms. We'll also be sampling a number of our own home-grown jarred products and new 2017 releases of our Treasury hard cider. Admission and samples are free!
X-ALT-DESC;FMTTYPE=text/html:Taste the bounty of Fishkill Farms! We will be offering tastings of different apple varieties we grow\, from well-known classics to rare heirlooms. We&#39\;ll also be sampling a number of our own home-grown jarred products and new 2017 releases of our Treasury hard cider. Admission and samples are free!
LOCATION:Fishkill Farms 9 Fishkill Farm Rd Hopewell Junction\, NY 12533
UID:e.2770.10476541
SEQUENCE:3
DTSTAMP:20260426T020623Z
URL:https://business.dcrcoc.org/events/details/harvest-tasting-at-fishkill-farms-10476541
END:VEVENT

END:VCALENDAR
