BEGIN:VCALENDAR
VERSION:2.0
PRODID:-//ChamberMaster//Event Calendar 2.0//EN
METHOD:PUBLISH
X-PUBLISHED-TTL:P3D
REFRESH-INTERVAL:P3D
CALSCALE:GREGORIAN
BEGIN:VEVENT
DTSTART:20171007T223000Z
DTEND:20171008T023000Z
X-MICROSOFT-CDO-ALLDAYEVENT:FALSE
SUMMARY:Havana Nights! Anderson Center for Autism's 16th Gala
DESCRIPTION:Travel with us to the tropics and spend a hot night in the party capital of Havana. We promise this will be a trip to remember. Enjoy a taste of the tropics and dance the night away for a great cause: Anderson Center for Autism.  Vamanos!
X-ALT-DESC;FMTTYPE=text/html:Travel with us to the tropics and spend a hot night in the party capital of Havana. We promise this will be a trip to remember. Enjoy a taste of the tropics and dance the night away for a great cause: Anderson Center for Autism. &iexcl\;Vamanos!
LOCATION:The Grandivew
UID:e.2770.10476232
SEQUENCE:3
DTSTAMP:20260426T033626Z
URL:https://business.dcrcoc.org/events/details/havana-nights-anderson-center-for-autism-s-16th-gala-10476232
END:VEVENT

END:VCALENDAR
