BEGIN:VCALENDAR
VERSION:2.0
PRODID:-//ChamberMaster//Event Calendar 2.0//EN
METHOD:PUBLISH
X-PUBLISHED-TTL:P3D
REFRESH-INTERVAL:P3D
CALSCALE:GREGORIAN
BEGIN:VEVENT
DTSTART:20190503T230000Z
DTEND:20190504T023000Z
X-MICROSOFT-CDO-ALLDAYEVENT:FALSE
SUMMARY:Headliners Night at Mill Creek
DESCRIPTION:Come join Mill Creek Caterers for headliners night! Your night will start with a filling buffet dinner at 7:00pm \, cash bar available and then the show will begin at 8:30 pm. Our headliners Vanessa Hollingshead and Tom Daddario will keep you laughing with there experience ranging in performances from local and national to international! See their bio on our website or facebook for more details.
X-ALT-DESC;FMTTYPE=text/html:Come join Mill Creek Caterers for headliners night! Your night will start with a filling buffet dinner at 7:00pm \, cash bar available and then the show will begin at 8:30 pm. Our headliners Vanessa Hollingshead and Tom Daddario will keep you laughing with there experience ranging in performances from local and national to international! See their bio on our website or facebook for more details.
LOCATION:Mill Creek Caterers 17 Route 376 Hopewell Junction\, NY 12533
UID:e.2770.10480651
SEQUENCE:3
DTSTAMP:20260423T045150Z
URL:https://business.dcrcoc.org/events/details/headliners-night-at-mill-creek-10480651
END:VEVENT

END:VCALENDAR
