BEGIN:VCALENDAR
VERSION:2.0
PRODID:-//ChamberMaster//Event Calendar 2.0//EN
METHOD:PUBLISH
X-PUBLISHED-TTL:P3D
REFRESH-INTERVAL:P3D
CALSCALE:GREGORIAN
BEGIN:VEVENT
DTSTART:20180511T120000Z
DTEND:20180511T130000Z
X-MICROSOFT-CDO-ALLDAYEVENT:FALSE
SUMMARY:Health & Wellness Seminar - Mental Health Awareness in the Workplace
DESCRIPTION:Join the Health & Wellness Committee for a seminar on Mental Health in the workplace. Hear from Andrew O'Grady\, CEO of Mental Health America of Dutchess County and the CEO of Mid Hudson Alcohol Recovery Centers\, discuss creating an inclusive\, healthy\, and supportive work environment.\n\nHealth Quest proudly sponsors this event.
X-ALT-DESC;FMTTYPE=text/html:<span style="color:#000000\;"><span style="font-family: &quot\;Helvetica Neue&quot\;\, Helvetica\, Arial\, sans-serif\; font-size: 14px\;">Join the Health &amp\; Wellness Committee for a seminar on Mental Health in the workplace. Hear from Andrew O&#39\;Grady\, CEO of Mental Health America of Dutchess County and the CEO of Mid Hudson Alcohol Recovery Centers\, discuss creating an inclusive\, healthy\, and supportive work environment.</span></span><br />\n<strong><span style="font-family: &quot\;Helvetica Neue&quot\;\, Helvetica\, Arial\, sans-serif\; font-size: 14px\;"><a href="http://www.healthquest.org/hq/home.aspx" target="_blank"><span style="color:#0000FF\;">Health Quest</span></a></span></strong><span style="color:#000000\;"><span style="font-family: &quot\;Helvetica Neue&quot\;\, Helvetica\, Arial\, sans-serif\; font-size: 14px\;"> proudly sponsors this event.</span></span>
LOCATION:Dutchess County Regional Chamber of Commerce Large Conference Room One Civic Center Plaza Suite 400 Poughkeepsie NY 12601
UID:e.2770.10477137
SEQUENCE:3
DTSTAMP:20260425T182217Z
URL:https://business.dcrcoc.org/events/details/health-wellness-seminar-mental-health-awareness-in-the-workplace-10477137
END:VEVENT

END:VCALENDAR
