BEGIN:VCALENDAR
VERSION:2.0
PRODID:-//ChamberMaster//Event Calendar 2.0//EN
METHOD:PUBLISH
X-PUBLISHED-TTL:P3D
REFRESH-INTERVAL:P3D
CALSCALE:GREGORIAN
BEGIN:VEVENT
DTSTART:20171120T140000Z
DTEND:20171218T213000Z
X-MICROSOFT-CDO-ALLDAYEVENT:FALSE
SUMMARY:HealthlinkNY - Hat\, Gloves & Coat Drive
DESCRIPTION:Please help HealthlinkNY keep our neighbors warm! We are collecting new or gently used hats\, gloves and coats and you can help! Donations will be accepted at: HealthlinkNY 300 Westage Business Center Drive Suite 150\, Fishkill\, NY Office Hours: Monday - Friday\, 9am - 5pm The items we collect will be donated to Newburgh Ministries for any person in need.
X-ALT-DESC;FMTTYPE=text/html:Please help HealthlinkNY keep our neighbors warm! We are collecting new or gently used hats\, gloves and coats and you can help! Donations will be accepted at: HealthlinkNY 300 Westage Business Center Drive Suite 150\, Fishkill\, NY Office Hours: Monday - Friday\, 9am - 5pm The items we collect will be donated to Newburgh Ministries for any person in need.
LOCATION:300 Westage Business Center Drive Suite 150\, Fishkill\, NY
UID:e.2770.10476602
SEQUENCE:3
DTSTAMP:20260426T005212Z
URL:https://business.dcrcoc.org/events/details/healthlinkny-hat-gloves-coat-drive-10476602
END:VEVENT

END:VCALENDAR
