BEGIN:VCALENDAR
VERSION:2.0
PRODID:-//ChamberMaster//Event Calendar 2.0//EN
METHOD:PUBLISH
X-PUBLISHED-TTL:P3D
REFRESH-INTERVAL:P3D
CALSCALE:GREGORIAN
BEGIN:VEVENT
DTSTART:20210219T000000Z
DTEND:20210219T010000Z
X-MICROSOFT-CDO-ALLDAYEVENT:FALSE
SUMMARY:Healthy Living for Your Brain and Body: Tips From the Latest Research with Pawling Free Library
DESCRIPTION:A free virtual educational program by the Alzheimer's Association Hudson Valley Chapter with information on diet\, nutrition\, exercise\, cognitive activity and social engagement. Get hands-on tools to develop a plan for healthy aging. To register\, call 800.272.3900.
X-ALT-DESC;FMTTYPE=text/html:<span style="background-color:transparent\; color:rgb(60\, 64\, 67)\; font-family:times new roman\; font-size:12pt">A free virtual educational program by the Alzheimer&rsquo\;s Association </span><span style="font-size:14px"><span style="font-family:times new roman"><span style="color:#000000">Hudson Valley&nbsp\;</span></span></span><span style="background-color:transparent\; color:rgb(60\, 64\, 67)\; font-family:times new roman\; font-size:12pt">Chapter with information on diet\, nutrition\, exercise\, cognitive activity and social engagement. Get hands-on tools to develop a plan for healthy aging. </span><span style="color:rgb(34\, 34\, 34)\; font-family:times new roman\; font-size:12pt">To register\, call </span><span style="color:rgb(17\, 85\, 204)\; font-family:times new roman\; font-size:12pt">800.272.3900</span><span style="color:rgb(34\, 34\, 34)\; font-family:times new roman\; font-size:12pt">.</span>
LOCATION:Virtual
UID:e.2770.10484955
SEQUENCE:3
DTSTAMP:20260421T161710Z
URL:https://business.dcrcoc.org/events/details/healthy-living-for-your-brain-and-body-tips-from-the-latest-research-with-pawling-free-library-10484955
END:VEVENT

END:VCALENDAR
