BEGIN:VCALENDAR
VERSION:2.0
PRODID:-//ChamberMaster//Event Calendar 2.0//EN
METHOD:PUBLISH
X-PUBLISHED-TTL:P3D
REFRESH-INTERVAL:P3D
CALSCALE:GREGORIAN
BEGIN:VEVENT
DTSTART:20180221T170000Z
DTEND:20180221T190000Z
X-MICROSOFT-CDO-ALLDAYEVENT:FALSE
SUMMARY:Heart-Healthy Lunch and Learn – Carmel
DESCRIPTION:Putnam Hospital Center will host a no-cost\, educational luncheon in honor of Heart Month. A nutritious meal will be served while the audience hears from cardiologist Dr. Dr. Anthony Messina\, The Heart Center\, about risk factors\, advanced treatments\, blood pressure guidelines and more. Indrani Dhar\, Putnam Hospital Center's clinical nutrition supervisor\, will also speak about heart-healthy foods.
X-ALT-DESC;FMTTYPE=text/html:Putnam Hospital Center will host a no-cost\, educational luncheon in honor of Heart Month. A nutritious meal will be served while the audience hears from cardiologist Dr. Dr. Anthony Messina\, The Heart Center\, about risk factors\, advanced treatments\, blood pressure guidelines and more. Indrani Dhar\, Putnam Hospital Center&rsquo\;s clinical nutrition supervisor\, will also speak about heart-healthy foods.
LOCATION:Putnam Hospital Center Michael T. Weber Conference Rooms 670 Stoneleigh Ave.\, Carmel
UID:e.2770.10476720
SEQUENCE:3
DTSTAMP:20260425T222159Z
URL:https://business.dcrcoc.org/events/details/heart-healthy-lunch-and-learn-carmel-10476720
END:VEVENT

END:VCALENDAR
