BEGIN:VCALENDAR
VERSION:2.0
PRODID:-//ChamberMaster//Event Calendar 2.0//EN
METHOD:PUBLISH
X-PUBLISHED-TTL:P3D
REFRESH-INTERVAL:P3D
CALSCALE:GREGORIAN
BEGIN:VEVENT
DTSTART:20180201T170000Z
DTEND:20180201T183000Z
X-MICROSOFT-CDO-ALLDAYEVENT:FALSE
SUMMARY:Heart-Healthy Lunch and Learn – Poughkeepsie
DESCRIPTION:Vassar Brothers Medical Center will host a no-cost\, educational luncheon in honor of Heart Month. A nutritious meal will be served while the audience hears from cardiologist Dr. Ethan Gundeck about risk factors\, advanced treatments\, blood pressure guidelines and more.
X-ALT-DESC;FMTTYPE=text/html:Vassar Brothers Medical Center will host a no-cost\, educational luncheon in honor of Heart Month. A nutritious meal will be served while the audience hears from cardiologist Dr. Ethan Gundeck about risk factors\, advanced treatments\, blood pressure guidelines and more.
LOCATION:Vassar Brothers Medical Center Conference Room B 45 Reade Place\, Poughkeepsie
UID:e.2770.10476718
SEQUENCE:3
DTSTAMP:20260425T222147Z
URL:https://business.dcrcoc.org/events/details/heart-healthy-lunch-and-learn-poughkeepsie-10476718
END:VEVENT

END:VCALENDAR
