BEGIN:VCALENDAR
VERSION:2.0
PRODID:-//ChamberMaster//Event Calendar 2.0//EN
METHOD:PUBLISH
X-PUBLISHED-TTL:P3D
REFRESH-INTERVAL:P3D
CALSCALE:GREGORIAN
BEGIN:VEVENT
DTSTART:20180223T170000Z
DTEND:20180223T190000Z
X-MICROSOFT-CDO-ALLDAYEVENT:FALSE
SUMMARY:Heart-Healthy Lunch and Learn – Rhinebeck
DESCRIPTION:Northern Dutchess Hospital will host a no-cost\, educational luncheon in honor of Heart Month. A nutritious meal will be served while the audience hears from cardiologist Dr. Douglas Kroll\, The Heart Center\, about risk factors\, advanced treatments\, blood pressure guidelines and more. Roufia Payman\, Northern Dutchess Hospital's nutrition counselor\, will also speak about heart-healthy foods.
X-ALT-DESC;FMTTYPE=text/html:Northern Dutchess Hospital will host a no-cost\, educational luncheon in honor of Heart Month. A nutritious meal will be served while the audience hears from cardiologist Dr. Douglas Kroll\, The Heart Center\, about risk factors\, advanced treatments\, blood pressure guidelines and more. Roufia Payman\, Northern Dutchess Hospital&rsquo\;s nutrition counselor\, will also speak about heart-healthy foods.
LOCATION:Northern Dutchess Hospital Cafeteria Conference Room 6511 Springbrook Ave.\, Rhinebeck
UID:e.2770.10476721
SEQUENCE:3
DTSTAMP:20260425T222338Z
URL:https://business.dcrcoc.org/events/details/heart-healthy-lunch-and-learn-rhinebeck-10476721
END:VEVENT

END:VCALENDAR
