BEGIN:VCALENDAR
VERSION:2.0
PRODID:-//ChamberMaster//Event Calendar 2.0//EN
METHOD:PUBLISH
X-PUBLISHED-TTL:P3D
REFRESH-INTERVAL:P3D
CALSCALE:GREGORIAN
BEGIN:VEVENT
DTSTART:20180207T170000Z
DTEND:20180207T183000Z
X-MICROSOFT-CDO-ALLDAYEVENT:FALSE
SUMMARY:Heart-Healthy Lunch and Learn – Sharon Hospital
DESCRIPTION:Sharon Hospital will host a no-cost\, educational luncheon in honor of Heart Month. A nutritious meal will be served while the audience hears from cardiologist Dr. Benjamin Schaefer about risk factors\, advanced treatments\, blood pressure guidelines and more.
X-ALT-DESC;FMTTYPE=text/html:Sharon Hospital will host a no-cost\, educational luncheon in honor of Heart Month. A nutritious meal will be served while the audience hears from cardiologist Dr. Benjamin Schaefer about risk factors\, advanced treatments\, blood pressure guidelines and more.
LOCATION:Sharon Hospital Board Conference Room 2 50 Hospital Hill Road\, Sharon\, Conn.
UID:e.2770.10476719
SEQUENCE:3
DTSTAMP:20260425T222459Z
URL:https://business.dcrcoc.org/events/details/heart-healthy-lunch-and-learn-sharon-hospital-10476719
END:VEVENT

END:VCALENDAR
