BEGIN:VCALENDAR
VERSION:2.0
PRODID:-//ChamberMaster//Event Calendar 2.0//EN
METHOD:PUBLISH
X-PUBLISHED-TTL:P3D
REFRESH-INTERVAL:P3D
CALSCALE:GREGORIAN
BEGIN:VEVENT
DTSTART:20171014T133000Z
DTEND:20171014T160000Z
X-MICROSOFT-CDO-ALLDAYEVENT:FALSE
SUMMARY:Hike Mount Beacon with the Health & Wellness Club
DESCRIPTION:***RSVP is strongly recommended to receive up to date information. \n\n\n\nThe Health & Wellness Steering Committee of the Chamber will host two hikes up Mount Beacon in October to enjoy the beautifully scenic views and cool fall weather.\n\nJoin us on Saturday\, October 14 and 21 (with a rain date of October 28) to learn some hiking safety information and then hike up the mountain with guide Christopher Baker from the Hudson Valley Hikers. Each hike will last approximately two hours\, starting at 9:30 and will include tips on how to avoid injury\, proper stretching techniques\, and hiking safety. \n\nParticipants are encouraged to bring plenty of water in non-disposable containers to carry while hiking.  Proper hiking shoes or boots are required.  The hike is open to anyone   frequent breaks can be taken along the way to rest and to enjoy the scenery.  Parking area and trailhead are located at the intersection of Route 9D and Howland Avenue in the City of Beacon at 788 Wolcott Ave.\, Beacon\, NY 12508.\n\nThe activities and programming of the Health & Wellness Club are sponsored by: Health Quest.
X-ALT-DESC;FMTTYPE=text/html:<p><strong>***RSVP is strongly recommended to receive up to date information.&nbsp\;</strong><br />\n<br />\nThe Health &amp\; Wellness Steering Committee of the Chamber will host two hikes up Mount Beacon in October to enjoy the beautifully scenic views and cool fall weather.</p>\n\n<p>Join us on Saturday\, October 14 and 21 (with a rain date of October 28) to learn some hiking safety information and then hike up the mountain with guide Christopher Baker from the Hudson Valley Hikers. Each hike will last approximately two hours\, starting at 9:30 and will include tips on how to avoid injury\, proper stretching techniques\, and hiking safety.&nbsp\;<br />\nParticipants are encouraged to bring plenty of water in non-disposable containers to carry while hiking.<span>&nbsp\; </span>Proper hiking shoes or boots are required.<span>&nbsp\; </span>The hike is open to anyone &ndash\; frequent breaks can be taken along the way to rest and to enjoy the scenery.<span>&nbsp\; </span>Parking area and trailhead are located at the intersection of Route 9D and Howland Avenue in the City of Beacon at 788 Wolcott Ave.\, Beacon\, NY 12508.</p>\n\n<p><span style="font-family:'Times New Roman'\,'serif'\;font-size:12pt\;mso-fareast-font-family:Calibri\;mso-fareast-theme-font:minor-latin\;mso-ansi-language:EN-US\;mso-fareast-language:EN-US\;mso-bidi-language:AR-SA\;">The activities and programming of the Health &amp\; Wellness Club are sponsored by: </span><span style="font-family:'Times New Roman'\,'serif'\;font-size:12pt\;mso-fareast-font-family:Calibri\;mso-fareast-theme-font:minor-latin\;mso-ansi-language:EN-US\;mso-fareast-language:EN-US\;mso-bidi-language:AR-SA\;"><a href="http://www.healthquest.org/hq/home.aspx" target="_blank">Health Quest</a>.</span></p>\n
LOCATION:788 Wolcott Ave\, Beacon\, NY 12508
UID:e.2770.10476313
SEQUENCE:3
DTSTAMP:20260426T033649Z
URL:https://business.dcrcoc.org/events/details/hike-mount-beacon-with-the-health-wellness-club-10476313
END:VEVENT

END:VCALENDAR
