BEGIN:VCALENDAR
VERSION:2.0
PRODID:-//ChamberMaster//Event Calendar 2.0//EN
METHOD:PUBLISH
X-PUBLISHED-TTL:P3D
REFRESH-INTERVAL:P3D
CALSCALE:GREGORIAN
BEGIN:VEVENT
DTSTART:20181020T130000Z
DTEND:20181020T160000Z
X-MICROSOFT-CDO-ALLDAYEVENT:FALSE
SUMMARY:Hike Mount Beacon with the Health & Wellness Club
DESCRIPTION:***RSVP is strongly recommended to receive up to date information. This event has been rescheduled from its orginal date. \n\n\n\nThe Health & Wellness Steering Committee of the Chamber will host a hike up Mount Beacon in October to enjoy the beautifully scenic views and cool fall weather.\n\nJoin us on Saturday\, October 20 to learn hiking safety information and then hike up the mountain.  This hike will last approximately three hours\, starting at 9:00 and will include tips on how to avoid injury\, proper stretching techniques\, and hiking safety. \n\n\n\nParticipants are encouraged to bring plenty of water in non-disposable containers to carry while hiking\, as well as an energizing snack.  Proper hiking shoes or boots are required.  The hike is open to anyone   frequent breaks can be taken along the way to rest and to enjoy the scenery.  This is a challenging hike\, covering about 4.4 miles of steep and rocky terrain. \n\n\n\nParking area and trailhead are located at the intersection of Route 9D and Howland Avenue in the City of Beacon at 788 Wolcott Ave.\, Beacon\, NY 12508.\n\nThe activities and programming of the Health & Wellness Club are sponsored by: Health Quest.
X-ALT-DESC;FMTTYPE=text/html:<p><strong style="color: rgb(51\, 51\, 51)\; font-family: sans-serif\, Arial\, Verdana\, &quot\;Trebuchet MS&quot\;\; font-size: 13px\; background-color: rgb(255\, 255\, 255)\;">***RSVP is strongly recommended to receive up to date information. This event has been rescheduled from its orginal date.&nbsp\;</strong><br />\n<br />\nThe Health &amp\; Wellness Steering Committee of the Chamber will host a hike up Mount Beacon in October to enjoy the beautifully scenic views and cool fall weather.</p>\n\n<p>Join us on Saturday\, October 20 to learn hiking safety information and then hike up the mountain.&nbsp\; This hike will last approximately three hours\, starting at 9:00 and will include tips on how to avoid injury\, proper stretching techniques\, and hiking safety.&nbsp\;<br />\n<br />\nParticipants are encouraged to bring plenty of water in non-disposable containers to carry while hiking\, as well as an energizing snack.<span>&nbsp\; </span>Proper hiking shoes or boots are required.<span>&nbsp\; </span>The hike is open to anyone &ndash\; frequent breaks can be taken along the way to rest and to enjoy the scenery.<span>&nbsp\; This is a challenging hike\, covering about 4.4 miles of steep and rocky terrain.&nbsp\;</span><br />\n<br />\nParking area and trailhead are located at the intersection of Route 9D and Howland Avenue in the City of Beacon at 788 Wolcott Ave.\, Beacon\, NY 12508.</p>\n\n<p><span style="font-family:'Times New Roman'\,'serif'\;font-size:12pt\;mso-fareast-font-family:Calibri\;mso-fareast-theme-font:minor-latin\;mso-ansi-language:EN-US\;mso-fareast-language:EN-US\;mso-bidi-language:AR-SA\;">The activities and programming of the Health &amp\; Wellness Club are sponsored by: </span><span style="font-family:'Times New Roman'\,'serif'\;font-size:12pt\;mso-fareast-font-family:Calibri\;mso-fareast-theme-font:minor-latin\;mso-ansi-language:EN-US\;mso-fareast-language:EN-US\;mso-bidi-language:AR-SA\;"><a href="http://www.healthquest.org/hq/home.aspx" target="_blank">Health Quest</a>.</span></p>\n
LOCATION:788 Wolcott Avenue\, Beacon\, NY 12508
UID:e.2770.10479302
SEQUENCE:3
DTSTAMP:20260425T115512Z
URL:https://business.dcrcoc.org/events/details/hike-mount-beacon-with-the-health-wellness-club-10479302
END:VEVENT

END:VCALENDAR
