BEGIN:VCALENDAR
VERSION:2.0
PRODID:-//ChamberMaster//Event Calendar 2.0//EN
METHOD:PUBLISH
X-PUBLISHED-TTL:P3D
REFRESH-INTERVAL:P3D
CALSCALE:GREGORIAN
BEGIN:VEVENT
DTSTART:20180915T130000Z
DTEND:20180915T143000Z
X-MICROSOFT-CDO-ALLDAYEVENT:FALSE
SUMMARY:Hike Stissing Mountain with the Health & Wellness Club
DESCRIPTION:***RSVP is strongly recommended to receive up to date information. \n\n\n\nThe Health & Wellness Steering Committee of the Chamber will host a hike up Stissing Mountain to enjoy the beautifully scenic views and cooler fall weather.\n\nJoin us on Saturday\, September 15 (with a rain date of September 22) to learn hiking safety information and then hike up the mountain.  This hike will last approximately two hours\, starting at 9:00 and will include tips on how to avoid injury\, proper stretching techniques\, and hiking safety. Participants are encouraged to bring plenty of water in non-disposable containers to carry while hiking\, as well as an energizing snack.  PROPER HIKING BOOTS ARE REQUIRED FOR THIS HIKE.\n\nThe hike is open to anyone   frequent breaks can be taken along the way to rest and to enjoy the scenery.  This is a short but challenging hike\, covering about 1.9 miles of steep and rocky terrain. Dogs are not permitted on preserve property.\n\n\n\nParking area and trailhead are located 355 Lake Road\, Pine Plains\, NY 12567.\n\nThe activities and programming of the Health & Wellness Club are sponsored by: Health Quest.
X-ALT-DESC;FMTTYPE=text/html:<p><strong style="color: rgb(51\, 51\, 51)\; font-family: sans-serif\, Arial\, Verdana\, &quot\;Trebuchet MS&quot\;\; font-size: 13px\; background-color: rgb(255\, 255\, 255)\;">***RSVP is strongly recommended to receive up to date information.&nbsp\;</strong><br />\n<br />\nThe Health &amp\; Wellness Steering Committee of the Chamber will host a hike up Stissing Mountain to enjoy the beautifully scenic views and cooler fall weather.</p>\n\n<p>Join us on Saturday\, September 15 (with a rain date of September 22) to learn hiking safety information and then hike up the mountain.&nbsp\; This hike will last approximately two hours\, starting at 9:00 and will include tips on how to avoid injury\, proper stretching techniques\, and hiking safety. Participants are encouraged to bring plenty of water in non-disposable containers to carry while hiking\, as well as an energizing snack.<span>&nbsp\; </span>PROPER HIKING BOOTS ARE REQUIRED FOR THIS HIKE.<br />\nThe hike is open to anyone &ndash\; frequent breaks can be taken along the way to rest and to enjoy the scenery.<span>&nbsp\; This is a short but challenging hike\, covering about 1.9 miles of steep and rocky terrain. Dogs are not permitted on preserve property.</span><br />\n<br />\nParking area and trailhead are located 355 Lake Road\, Pine Plains\, NY 12567.</p>\n\n<p><span style="font-family:'Times New Roman'\,'serif'\;font-size:12pt\;mso-fareast-font-family:Calibri\;mso-fareast-theme-font:minor-latin\;mso-ansi-language:EN-US\;mso-fareast-language:EN-US\;mso-bidi-language:AR-SA\;">The activities and programming of the Health &amp\; Wellness Club are sponsored by: </span><span style="font-family:'Times New Roman'\,'serif'\;font-size:12pt\;mso-fareast-font-family:Calibri\;mso-fareast-theme-font:minor-latin\;mso-ansi-language:EN-US\;mso-fareast-language:EN-US\;mso-bidi-language:AR-SA\;"><a href="http://www.healthquest.org/hq/home.aspx" target="_blank">Health Quest</a>.</span></p>\n
LOCATION:355 Lake Road\, Pine Plains\, NY 12567
UID:e.2770.10479303
SEQUENCE:3
DTSTAMP:20260425T144728Z
URL:https://business.dcrcoc.org/events/details/hike-stissing-mountain-with-the-health-wellness-club-10479303
END:VEVENT

END:VCALENDAR
