BEGIN:VCALENDAR
VERSION:2.0
PRODID:-//ChamberMaster//Event Calendar 2.0//EN
METHOD:PUBLISH
X-PUBLISHED-TTL:P3D
REFRESH-INTERVAL:P3D
CALSCALE:GREGORIAN
BEGIN:VEVENT
DTSTART:20180809T220000Z
DTEND:20180809T233000Z
X-MICROSOFT-CDO-ALLDAYEVENT:FALSE
SUMMARY:Hike Vassar Farms with the Health & Wellness Club
DESCRIPTION:***RSVP is strongly recommended to receive up to date information. \n\n\n\nRESCHEDULED TO RAIN DATE OF AUGUST 9TH. \n\n\n\nThe Health & Wellness Steering Committee of the Chamber will host a hike through our local gem\, Vassar Farms\, in to enjoy the carriage trails and wooded areas.\n\n\n\nAnd don't forget to visit the Arlington Farmer's Market on Thursday nights from 4 to 7 pm to get some of the areas freshest vegetables\, produce and baked goods to supplement your healthy lifestyle!\n\nJoin us on Thursday night August 9 to learn hiking safety information and then hike or stroll around the wooded hiking trails and carriage trails of Vassar Farms.  This hike will last approximately one and a half hours and will include tips on how to avoid injury\, proper stretching techniques\, and hiking safety. Participants are encouraged to bring plenty of water in non-disposable containers to carry while hiking\, as well as an energizing snack.  Proper hiking shoes or boots are required.  The hike is open to anyone   frequent breaks can be taken along the way to rest and to enjoy the scenery.  This is a moderate hike of about 2.65 miles. \n\n\n\nParking area and trailhead are located at Vassar Farms.\n\nThe activities and programming of the Health & Wellness Club are sponsored by: Health Quest.
X-ALT-DESC;FMTTYPE=text/html:<p><strong style="color: rgb(51\, 51\, 51)\; font-family: sans-serif\, Arial\, Verdana\, &quot\;Trebuchet MS&quot\;\; font-size: 13px\; background-color: rgb(255\, 255\, 255)\;">***RSVP is strongly recommended to receive up to date information.&nbsp\;</strong><br />\n<br />\nRESCHEDULED TO RAIN DATE OF AUGUST 9TH.&nbsp\;<br />\n<br />\nThe Health &amp\; Wellness Steering Committee of the Chamber will host a hike through our local gem\, Vassar Farms\, in to enjoy the carriage trails and wooded areas.<br />\n<br />\nAnd don&#39\;t forget to visit the Arlington Farmer&#39\;s Market on Thursday nights from 4 to 7 pm to get some of the areas freshest vegetables\, produce and baked goods to supplement your healthy lifestyle!</p>\n\n<p>Join us on Thursday night August 9 to learn hiking safety information and then hike or stroll around the wooded hiking trails and carriage trails of Vassar Farms.&nbsp\; This hike will last approximately one and a half hours and will include tips on how to avoid injury\, proper stretching techniques\, and hiking safety. Participants are encouraged to bring plenty of water in non-disposable containers to carry while hiking\, as well as an energizing snack.<span>&nbsp\; </span>Proper hiking shoes or boots are required.<span>&nbsp\; </span>The hike is open to anyone &ndash\; frequent breaks can be taken along the way to rest and to enjoy the scenery.<span>&nbsp\; This is a moderate hike of about 2.65 miles.&nbsp\;</span><br />\n<br />\nParking area and trailhead are located at Vassar Farms.</p>\n\n<p><span style="font-family:'Times New Roman'\,'serif'\;font-size:12pt\;mso-fareast-font-family:Calibri\;mso-fareast-theme-font:minor-latin\;mso-ansi-language:EN-US\;mso-fareast-language:EN-US\;mso-bidi-language:AR-SA\;">The activities and programming of the Health &amp\; Wellness Club are sponsored by: </span><span style="font-family:'Times New Roman'\,'serif'\;font-size:12pt\;mso-fareast-font-family:Calibri\;mso-fareast-theme-font:minor-latin\;mso-ansi-language:EN-US\;mso-fareast-language:EN-US\;mso-bidi-language:AR-SA\;"><a href="http://www.healthquest.org/hq/home.aspx" target="_blank">Health Quest</a>.</span></p>\n
LOCATION:51 Vassar Farm Lane\, Poughkeepsie\, NY 12601
UID:e.2770.10479304
SEQUENCE:3
DTSTAMP:20260425T144814Z
URL:https://business.dcrcoc.org/events/details/hike-vassar-farms-with-the-health-wellness-club-10479304
END:VEVENT

END:VCALENDAR
