BEGIN:VCALENDAR
VERSION:2.0
PRODID:-//ChamberMaster//Event Calendar 2.0//EN
METHOD:PUBLISH
X-PUBLISHED-TTL:P3D
REFRESH-INTERVAL:P3D
CALSCALE:GREGORIAN
BEGIN:VEVENT
DTSTART:20171014T133000Z
DTEND:20171014T203000Z
X-MICROSOFT-CDO-ALLDAYEVENT:FALSE
SUMMARY:Historic Home Tour
DESCRIPTION:Join us as we explore a few of Poughkeepsie's many historic properties for the first time in our history. Check in at the Locust Grove Visitor Center to obtain your itinerary\, map and wristband\, then set off to visit these impressive properties. Stop for lunch at a local restaurant\, visit the waterfront\, or walk the walkway! Tour check in starts at 9:30AM with sites open from 10:00AM to 5:00PM (last tour starts at 4:30PM). $45 members\, $50 non-members through September 30th. $55 members\, $60 non-members beginning October 1st and at the door. Register for the tour via the website's shopping cart. Please call 845-876-2472 with questions.
X-ALT-DESC;FMTTYPE=text/html:Join us as we explore a few of Poughkeepsie&rsquo\;s many historic properties for the first time in our history. Check in at the Locust Grove Visitor Center to obtain your itinerary\, map and wristband\, then set off to visit these impressive properties. Stop for lunch at a local restaurant\, visit the waterfront\, or walk the walkway! Tour check in starts at 9:30AM with sites open from 10:00AM to 5:00PM (last tour starts at 4:30PM). $45 members\, $50 non-members through September 30th. $55 members\, $60 non-members beginning October 1st and at the door. Register for the tour via the website&rsquo\;s shopping cart. Please call 845-876-2472 with questions.
LOCATION:Tour starts at Locust Grove Historic Site.
UID:e.2770.10476328
SEQUENCE:3
DTSTAMP:20260426T033317Z
URL:https://business.dcrcoc.org/events/details/historic-home-tour-10476328
END:VEVENT

END:VCALENDAR
