BEGIN:VCALENDAR
VERSION:2.0
PRODID:-//ChamberMaster//Event Calendar 2.0//EN
METHOD:PUBLISH
X-PUBLISHED-TTL:P3D
REFRESH-INTERVAL:P3D
CALSCALE:GREGORIAN
BEGIN:VEVENT
DTSTART;VALUE=DATE:20171117
DTEND;VALUE=DATE:20171120
TRANSP:TRANSPARENT
X-MICROSOFT-CDO-ALLDAYEVENT:TRUE
SUMMARY:Holiday Book Sale
DESCRIPTION:Holiday Book Sale\, At Locust Grove\, 2683 South Rd.\, Poughkeepsie\, N.Y. Friday\, November 17\, 10AM to 8PM Saturday\, November 18\, 10AM to 5 PM Sunday November 19\, 10AM to 5PM Brought to you by Friends of the Poughkeepsie Public Library District Facebook: PoughkeepsieLibraryBookstore
X-ALT-DESC;FMTTYPE=text/html:Holiday Book Sale\, At Locust Grove\, 2683 South Rd.\, Poughkeepsie\, N.Y. Friday\, November 17\, 10AM to 8PM Saturday\, November 18\, 10AM to 5 PM Sunday November 19\, 10AM to 5PM Brought to you by Friends of the Poughkeepsie Public Library District Facebook: PoughkeepsieLibraryBookstore
LOCATION:Locust Grove 2683 South Rd. Poughkeepsie\, N.Y.
UID:e.2770.10476376
SEQUENCE:3
DTSTAMP:20260426T020730Z
URL:https://business.dcrcoc.org/events/details/holiday-book-sale-11-17-2017-10476376
END:VEVENT

END:VCALENDAR
