BEGIN:VCALENDAR
VERSION:2.0
PRODID:-//ChamberMaster//Event Calendar 2.0//EN
METHOD:PUBLISH
X-PUBLISHED-TTL:P3D
REFRESH-INTERVAL:P3D
CALSCALE:GREGORIAN
BEGIN:VEVENT
DTSTART:20171216T160000Z
DTEND:20171216T210000Z
X-MICROSOFT-CDO-ALLDAYEVENT:FALSE
SUMMARY:Holiday Craft Fair at the Mid-Hudson Civic Center
DESCRIPTION:Holiday Craft Fair! Saturday\, December 16\, 2017 11:00am 4:00pm Mid-Hudson Civic Center Inc. is having a Holiday Craft Fair! This year we will be highlighting Hudson Valley artists\, crafters and local food products! Come shop local for your holiday needs! Admission: Free!
X-ALT-DESC;FMTTYPE=text/html:Holiday Craft Fair! Saturday\, December 16\, 2017 11:00am&ndash\;4:00pm Mid-Hudson Civic Center Inc. is having a Holiday Craft Fair! This year we will be highlighting Hudson Valley artists\, crafters and local food products! Come shop local for your holiday needs! Admission: Free!
LOCATION:Mid-Hudson Civic Center 14 Civic Center Plaza Poughkeepsie\, NY 12601
UID:e.2770.10476399
SEQUENCE:3
DTSTAMP:20260426T005341Z
URL:https://business.dcrcoc.org/events/details/holiday-craft-fair-at-the-mid-hudson-civic-center-10476399
END:VEVENT

END:VCALENDAR
