BEGIN:VCALENDAR
VERSION:2.0
PRODID:-//ChamberMaster//Event Calendar 2.0//EN
METHOD:PUBLISH
X-PUBLISHED-TTL:P3D
REFRESH-INTERVAL:P3D
CALSCALE:GREGORIAN
BEGIN:VEVENT
DTSTART:20191214T160000Z
DTEND:20191214T210000Z
X-MICROSOFT-CDO-ALLDAYEVENT:FALSE
SUMMARY:Holiday Craft Show
DESCRIPTION:Highlighting Hudson Valley Handmade products! Free admission and free parking. Come shop over 100 local food\, crafts and art vendors. 11am-4pm at Majed J. Nesheiwat Convention Center\, Formerly known as Mid Hudson Civic Center) For more information and to become a vendor\, contact Lydia at 845-454-5800 ext. 1202
X-ALT-DESC;FMTTYPE=text/html:Highlighting Hudson Valley Handmade products! Free admission and free parking. Come shop over 100 local food\, crafts and art vendors. 11am-4pm at Majed J. Nesheiwat Convention Center\, Formerly known as Mid Hudson Civic Center) For more information and to become a vendor\, contact Lydia at 845-454-5800 ext. 1202
LOCATION:
UID:e.2770.10482517
SEQUENCE:3
DTSTAMP:20260422T150704Z
URL:https://business.dcrcoc.org/events/details/holiday-craft-show-10482517
END:VEVENT

END:VCALENDAR
