BEGIN:VCALENDAR
VERSION:2.0
PRODID:-//ChamberMaster//Event Calendar 2.0//EN
METHOD:PUBLISH
X-PUBLISHED-TTL:P3D
REFRESH-INTERVAL:P3D
CALSCALE:GREGORIAN
BEGIN:VEVENT
DTSTART:20171118T200000Z
DTEND:20171118T220000Z
X-MICROSOFT-CDO-ALLDAYEVENT:FALSE
SUMMARY:Holiday Members Show
DESCRIPTION:Everything is small and reasonably priced..Perfect for gift giving!
X-ALT-DESC;FMTTYPE=text/html:Everything is small and reasonably priced..Perfect for gift giving!
LOCATION:Barrett Art Center 55 Noxon St Poughkeepsie\, NY 12601
UID:e.2770.10476547
SEQUENCE:3
DTSTAMP:20260426T020448Z
URL:https://business.dcrcoc.org/events/details/holiday-members-show-10476547
END:VEVENT

END:VCALENDAR
