BEGIN:VCALENDAR
VERSION:2.0
PRODID:-//ChamberMaster//Event Calendar 2.0//EN
METHOD:PUBLISH
X-PUBLISHED-TTL:P3D
REFRESH-INTERVAL:P3D
CALSCALE:GREGORIAN
BEGIN:VEVENT
DTSTART:20171112T160000Z
DTEND:20171112T190000Z
X-MICROSOFT-CDO-ALLDAYEVENT:FALSE
SUMMARY:Holiday Vendor Event
DESCRIPTION:Brookside Meadows Luxury Rental Community is hosting a Holiday Vendor Event. Join us on November 12th from 11am-2pm at the Clubhouse for a fun afternoon of shopping!\n\n\n\nVendors from: Posh\, Scentsy Candle\, From Pallets to Crafts\, L. Lombardi Studios\, Pampered Chef\, Mary Kay\, Thirty One and Story Stones at Hudson River Gifts onsite to offer tips and tricks for the holiday season\, as well as displaying unique gift ideas!\n\n\n\nEach vendor will have an item to raffle off! Check out Facebook for links to vendor's sites: Brookside   Luxury Rental Community
X-ALT-DESC;FMTTYPE=text/html:Brookside Meadows Luxury Rental Community is hosting a Holiday Vendor Event. Join us on November 12th from 11am-2pm at the Clubhouse for a fun afternoon of shopping!<br />\n<br />\nVendors from: Posh\, Scentsy Candle\, From Pallets to Crafts\, L. Lombardi Studios\, Pampered Chef\, Mary Kay\, Thirty One and Story Stones at Hudson River Gifts onsite to offer tips and tricks for the holiday season\, as well as displaying unique gift ideas!<br />\n<br />\nEach vendor will have an item to raffle off! Check out Facebook for links to vendor&rsquo\;s sites: Brookside &ndash\; Luxury Rental Community
LOCATION:Brookside Meadows Luxury Rental Community Club House 10100 Brookside Road\, Pleasant Valley\, NY 12569
UID:e.2770.10476536
SEQUENCE:3
DTSTAMP:20260426T020449Z
URL:https://business.dcrcoc.org/events/details/holiday-vendor-event-10476536
END:VEVENT

END:VCALENDAR
