BEGIN:VCALENDAR
VERSION:2.0
PRODID:-//ChamberMaster//Event Calendar 2.0//EN
METHOD:PUBLISH
X-PUBLISHED-TTL:P3D
REFRESH-INTERVAL:P3D
CALSCALE:GREGORIAN
BEGIN:VEVENT
DTSTART:20171209T170000Z
DTEND:20171209T210000Z
X-MICROSOFT-CDO-ALLDAYEVENT:FALSE
SUMMARY:Holiday Vendor Fair
DESCRIPTION:Shop local for your holiday gift items! We are going to have local vendors from LulaRoe\, Pampered Chef\, Posh\, Avon\, and local crafters who will have some unique holiday gifts.
X-ALT-DESC;FMTTYPE=text/html:Shop local for your holiday gift items! We are going to have local vendors from LulaRoe\, Pampered Chef\, Posh\, Avon\, and local crafters who will have some unique holiday gifts.
LOCATION:Full Circle Veterinary Hospital 1609 Route 9 Wappingers Falls\, NY 12550
UID:e.2770.10476620
SEQUENCE:3
DTSTAMP:20260426T004900Z
URL:https://business.dcrcoc.org/events/details/holiday-vendor-fair-10476620
END:VEVENT

END:VCALENDAR
