BEGIN:VCALENDAR
VERSION:2.0
PRODID:-//ChamberMaster//Event Calendar 2.0//EN
METHOD:PUBLISH
X-PUBLISHED-TTL:P3D
REFRESH-INTERVAL:P3D
CALSCALE:GREGORIAN
BEGIN:VEVENT
DTSTART:20190530T220000Z
DTEND:20190602T230000Z
X-MICROSOFT-CDO-ALLDAYEVENT:FALSE
SUMMARY:Holy Trinity Church Festival
DESCRIPTION:Fun for the Whole Family! Carnival Rides Food Daily Entertainment Free Admission Free Parking Carnival held on Church grounds
X-ALT-DESC;FMTTYPE=text/html:Fun for the Whole Family! Carnival Rides Food Daily Entertainment Free Admission Free Parking Carnival held on Church grounds
LOCATION:Holy Trinity Catholic Church 775 Main Street Poughkeepsie\, NY 12603
UID:e.2770.10480724
SEQUENCE:3
DTSTAMP:20260423T031247Z
URL:https://business.dcrcoc.org/events/details/holy-trinity-church-festival-05-30-2019-10480724
END:VEVENT

END:VCALENDAR
