BEGIN:VCALENDAR
VERSION:2.0
PRODID:-//ChamberMaster//Event Calendar 2.0//EN
METHOD:PUBLISH
X-PUBLISHED-TTL:P3D
REFRESH-INTERVAL:P3D
CALSCALE:GREGORIAN
BEGIN:VEVENT
DTSTART:20190404T220000Z
DTEND:20190404T230000Z
X-MICROSOFT-CDO-ALLDAYEVENT:FALSE
SUMMARY:Home Buying 101
DESCRIPTION:So\, you're thinking about buying a new home? Okay\, how do you know if you're really ready to pull the trigger? It is really exciting buying a new home but being prepared is crucial. Be our guest for a fun interactive panel discussion in which we will focus on: 1) Financial readiness - why aligning with professionals is a critical first step 2) Myth-busting - common beliefs that are untrue 3) The right team - why it's so important 4) Identifying your dream home There will also be light refreshments and a raffle! Sponsored by PuroClean - the paramedics of property damage. 2019-75689 EXP 4/5/2019
X-ALT-DESC;FMTTYPE=text/html:So\, you&#39\;re thinking about buying a new home? Okay\, how do you know if you&#39\;re really ready to pull the trigger? It is really exciting buying a new home but being prepared is crucial. Be our guest for a fun interactive panel discussion in which we will focus on: 1) Financial readiness - why aligning with professionals is a critical first step 2) Myth-busting - common beliefs that are untrue 3) The right team - why it&#39\;s so important 4) Identifying your dream home There will also be light refreshments and a raffle! Sponsored by PuroClean - the paramedics of property damage. 2019-75689 EXP 4/5/2019
LOCATION:Coldwell Banker 6423 Montgomery Street Rhinebeck\, NY 12572
UID:e.2770.10480585
SEQUENCE:3
DTSTAMP:20260423T062302Z
URL:https://business.dcrcoc.org/events/details/home-buying-101-10480585
END:VEVENT

END:VCALENDAR
