BEGIN:VCALENDAR
VERSION:2.0
PRODID:-//ChamberMaster//Event Calendar 2.0//EN
METHOD:PUBLISH
X-PUBLISHED-TTL:P3D
REFRESH-INTERVAL:P3D
CALSCALE:GREGORIAN
BEGIN:VEVENT
DTSTART:20190404T220000Z
DTEND:20190404T230000Z
X-MICROSOFT-CDO-ALLDAYEVENT:FALSE
SUMMARY:Home Buying 101—Professional Advice for the Novice Homebuyers
DESCRIPTION:Are you looking at purchasing a new home in the foreseeable future? Whether it is your first time buying\, or you have been out of the market for decades and looking for your retirement home\, you won't want to miss this interactive panel discussion. Get a 360-degree perspective on the entire home buying process with panelists that include Jessica J. Glass\, a Real Estate attorney at SRDD Law\, as well as a loan officer\, a financial planner\, an insurance agent and a real estate agent. The panelists will be sharing insights\, answering questions and myth-busting some of the most common real estate myths! This event is free to attend.\n\n \nModerator:\n\n\n	Angela Lanuto\, Real Estate Agent\, Coldwell Banker Village Green Realty.\n\n\nSpeakers:\n\n\n	Karen Blase\, Financial Adviser\, Wealth Advisory Group LLC\n	John Deforest\, Account Executive\, RSS Agency\, Inc.\n	Jessica J. Glass\, Attorney\, SRDD Law\n	Matthew LaSpada\, Mortgage Loan Originator\, Residential Home Funding Corp.\n\nRegister here.
X-ALT-DESC;FMTTYPE=text/html:<span style="color: rgb(102\, 102\, 102)\; font-family: open sans\; font-size: 14px\;">Are you looking at purchasing a new home in the foreseeable future? Whether it is your first time buying\, or you have been out of the market for decades and looking for your retirement home\, you won&rsquo\;t want to miss this interactive panel discussion. Get a 360-degree perspective on the entire home buying process with panelists that include&nbsp\;</span><span style="color: rgb(102\, 102\, 102)\; font-family: open sans\; font-size: 14px\;">Jessica J. Glass\, a Real Estate attorney at SRDD Law\, as well as a loan officer\, a financial planner\, an insurance agent and a real estate agent. The panelists will be sharing insights\, answering questions and myth-busting some of the most common real estate myths! This event is free to attend.</span><br />\n&nbsp\;\n<p><em>Moderator:</em></p>\n\n<ul>\n	<li>Angela Lanuto\, Real Estate Agent\, Coldwell Banker Village Green Realty.</li>\n</ul>\n\n<p><em>Speakers:</em></p>\n\n<ul>\n	<li>Karen Blase\, Financial Adviser\, Wealth Advisory Group LLC</li>\n	<li>John Deforest\, Account Executive\, RSS Agency\, Inc.</li>\n	<li><a href="https://srddlaw.com/team/jessica-j-glass/" style="color: rgb(51\, 122\, 183)\; box-sizing: border-box\; background-color: transparent\; text-decoration-line: none\;">Jessica J. Glass</a>\, Attorney\, SRDD Law</li>\n	<li>Matthew LaSpada\, Mortgage Loan Originator\, Residential Home Funding Corp.</li>\n</ul>\n<strong>Register <a href="http://bit.ly/2CIJoHo">here</a>.</strong><br />\n&nbsp\;
LOCATION:
UID:e.2770.10480598
SEQUENCE:3
DTSTAMP:20260423T065200Z
URL:https://business.dcrcoc.org/events/details/home-buying-101-professional-advice-for-the-novice-homebuyers-10480598
END:VEVENT

END:VCALENDAR
