BEGIN:VCALENDAR
VERSION:2.0
PRODID:-//ChamberMaster//Event Calendar 2.0//EN
METHOD:PUBLISH
X-PUBLISHED-TTL:P3D
REFRESH-INTERVAL:P3D
CALSCALE:GREGORIAN
BEGIN:VEVENT
DTSTART;VALUE=DATE:20210225
DTEND;VALUE=DATE:20210226
TRANSP:TRANSPARENT
X-MICROSOFT-CDO-ALLDAYEVENT:TRUE
SUMMARY:Homesick: International Juried Art Exhibition
DESCRIPTION:The Art Effect announces the launch of its new international juried exhibition series and pilot youth museum studies program in 2021. Home Sick will be The Art Effect's inaugural national juried exhibition in its new 3\,000-sq-ft gallery at the Poughkeepsie Trolley Barn in the heart of the City of Poughkeepsie. This exciting exhibition will be on display February 25   April 1\, 2021. Home Sick will serve as a core component of a pilot program to put youth in the "driver's seat" leading exhibitions and programming at the Trolley Barn. Curated by Mary-Kay Lombino\, Deputy Director and Emily Hargroves Fisher '57 and Richard B. Fisher Curator at The Frances Lehman Loeb Art Center\, Vassar College\, "home sick" can take on multiple meanings in light of a tumultuous year such as 2020. Submit artwork: https://artist.callforentry.org/festivals_unique_info.php?ID=8259
X-ALT-DESC;FMTTYPE=text/html:The Art Effect announces the launch of its new international juried exhibition series and pilot youth museum studies program in 2021. Home Sick will be The Art Effect&rsquo\;s inaugural national juried exhibition in its new 3\,000-sq-ft gallery at the Poughkeepsie Trolley Barn in the heart of the City of Poughkeepsie. This exciting exhibition will be on display February 25 &ndash\; April 1\, 2021. Home Sick will serve as a core component of a pilot program to put youth in the &ldquo\;driver&rsquo\;s seat&rdquo\; leading exhibitions and programming at the Trolley Barn. Curated by Mary-Kay Lombino\, Deputy Director and Emily Hargroves Fisher &#39\;57 and Richard B. Fisher Curator at The Frances Lehman Loeb Art Center\, Vassar College\, &ldquo\;home sick&rdquo\; can take on multiple meanings in light of a tumultuous year such as 2020. Submit artwork: https://artist.callforentry.org/festivals_unique_info.php?ID=8259
LOCATION:The Poughkeepsie Trolley Barn
UID:e.2770.10484834
SEQUENCE:3
DTSTAMP:20260421T161552Z
URL:https://business.dcrcoc.org/events/details/homesick-international-juried-art-exhibition-10484834
END:VEVENT

END:VCALENDAR
