BEGIN:VCALENDAR
VERSION:2.0
PRODID:-//ChamberMaster//Event Calendar 2.0//EN
METHOD:PUBLISH
X-PUBLISHED-TTL:P3D
REFRESH-INTERVAL:P3D
CALSCALE:GREGORIAN
BEGIN:VEVENT
DTSTART:20180424T223000Z
DTEND:20180424T233000Z
X-MICROSOFT-CDO-ALLDAYEVENT:FALSE
SUMMARY:Hospital-Free Outpatient Joint Replacement: How and Why?
DESCRIPTION:Orthopedic Associates of Dutchess County has brought Hospital-Free Outpatient Joint Replacement to the Hudson Valley! Join Dr. William Colman to learn more about the outpatient joint replacement procedure for your knee or shoulder and the benefits of having it done outside of a hospital setting.
X-ALT-DESC;FMTTYPE=text/html:<p style="text-align:justify">Orthopedic Associates of Dutchess County has brought Hospital-Free Outpatient Joint Replacement to the Hudson Valley! Join Dr. William Colman to learn more about the outpatient joint replacement procedure for your knee or shoulder and the benefits of having it done outside of a hospital setting.</p>\n\n<p style="text-align:justify">&nbsp\;</p>\n
LOCATION:Orthopedic Associates Poughkeepsie Conference Room 1910 South Road l Poughkeepsie\, NY 12601
UID:e.2770.10477618
SEQUENCE:3
DTSTAMP:20260425T210524Z
URL:https://business.dcrcoc.org/events/details/hospital-free-outpatient-joint-replacement-how-and-why-10477618
END:VEVENT

END:VCALENDAR
