BEGIN:VCALENDAR
VERSION:2.0
PRODID:-//ChamberMaster//Event Calendar 2.0//EN
METHOD:PUBLISH
X-PUBLISHED-TTL:P3D
REFRESH-INTERVAL:P3D
CALSCALE:GREGORIAN
BEGIN:VEVENT
DTSTART:20190712T220000Z
DTEND:20190713T003000Z
X-MICROSOFT-CDO-ALLDAYEVENT:FALSE
SUMMARY:Hot-Air Balloon Festival: RIDES for July 12 - Evening Launch
DESCRIPTION:$50.00 DEPOSIT DUE NOW & $225.00 CASH DUE AT EVENT *\n\nCASH ONLY\, please.\n\n\n\n*If you are not affiliated with a Comany\, please add "N/A" to reservations. \n\n\n\nHOT-AIR BALLOON RIDE INFO\n* You will need to purchase admission tickets separately CLICK HERE for admission tickets.\n\n \n\nA typical balloon adventure is approximately three hours from set-up through pack-up with the actual flight lasting approximately 45 minutes. You will be returned to the launch site in your balloon's chase vehicle. \n\n \n\nBalloon rides have been used for engagements\, weddings\, client rewards birthday/graduation gifts\, and a whole lot more. Don't miss out on this once-in-a-lifetime experience!\n\n \n\nEvening rides are $275 per person.\n\n \n\nA $50 non-refundable deposit will be charged at the time of registration per person.\n\n \n\nPlease print your confirmation email and bring it as well as valid ID with you on the day of your ride. All passengers MUST check-in at the Balloon Ride Tent to sign a liability waiver. The balance due will be paid upon arrival to the balloon ride tent. CASH ONLY.\n\n \n\nPlease\, leave yourself plenty of travel time as traffic may cause significant delays. No refunds will be issued for missed rides due to late arrival.\n\n \n\nFor evening flights\, check-in is at 5 p.m.\n\n\n\nBALLON RIDE DISCLAIMER\n\nBy purchasing a Hot-Air Balloon Ride\, you agree to the following:\n\n\n	All sales are final. If your launch is canceled for any reason\, if there is room at a later launch\, you will be asked to try and reschedule at check-in the day of the canceled launch. If\, at the end of the weekend\, NONE of the launches were successful\, the $50 deposit will be refunded.\n	All passengers must be tall enough to see over the side of the basket (approximately 48-inches).\n	Passengers should dress in comfortable clothing and closed-toe footwear.\n	All passengers should be able to jump off of a picnic table as you will need to climb into and out of the balloon basket and landings can be bumpy.\n	Balloons are not handicapped accessible.\n	All passengers\, willingly\, and voluntarily assume full responsibility for all risks of any and every kind involved with or arising from participation in hot-air balloon activities whether during flight preparation\, takeoff\, flight\, landing\, travel to or from the takeoff or landing areas\, or otherwise. \n	In consideration for participation in this activity and with the intent to be legally bound all passengers release\, waive and relinquish all claims as a direct or indirect result of participation in this activity and irrevocably release all of the Parties\, (Dutchess County Regional Chamber of Commerce\, Dutchess County Fairgrounds\, or the individual balloonists) their employees\, agents\, representatives\, elected officials\, contractors\, subcontractors\, successors\, heirs\, assigns\, affiliates\, volunteers and legal representatives from\, and hold them harmless for\, all claims\, rights\, demands or causes of action\, whether known or unknown\, suspected or unsuspected\, arising out of the ballooning activities\, which may be had against the Parties in connection with ballooning activities with the Parties.\n	All passengers agree to make no claims against or sue any of the Parties for injuries\, death or property damage caused due to the ordinary negligence of the Parties or any dangerous conditions of any property upon which the ballooning activities may take place.\n	Signing up for a balloon flight does not guarantee you will fly\, as flights are completely dependent on weather. ALL BALLOONS TAKEOFF AT THE DISCRETION OF THE PILOT. Sometimes\, due to impending weather and WIND or other conditions\, balloons will launch early/late or not at all.\n	Basket sizes vary from balloon-to-balloon and are dependent on weight capacity\; therefore\, passengers may not be able to ride together. We will do our best to put all passengers together when possible and seldom separate twosomes\, but it is a possibility.
X-ALT-DESC;FMTTYPE=text/html:<p><br />\n<span style="color: rgb(255\, 0\, 0)\;"><strong><span style="font-size: 16px\;">$50.00 DEPOSIT DUE <u>NOW</u> &amp\; $225.00 CASH DUE AT EVENT *</span><br />\n<font size="4">CASH ONLY\, please.</font></strong></span><br />\n<br />\n<span style="color: rgb(255\, 0\, 0)\;"><font size="4">*</font><u><font size="4">If you are not affiliated with a Comany\, please add &quot\;N/A&quot\; to&nbsp\;reservations.</font></u><font size="4">&nbsp\;</font></span><br />\n<br />\n<strong><span style="color: rgb(38\, 38\, 38)\; font-size: 18px\;">HOT-AIR BALLOON RIDE INFO</span></strong></p>\n<span style="box-sizing: border-box\;"><span style="box-sizing: border-box\;"><strong style="box-sizing: border-box\;"><span style="box-sizing: border-box\;"><span style="color: red\;"><span style="font-size: 19.5pt\;">* You will need to purchase admission tickets separately&nbsp\;</span></span><strong style="color: rgb(51\, 51\, 51)\; box-sizing: border-box\;"><span style="box-sizing: border-box\;"><a href="https://app.gopassage.com/events/3070?iframe=true&amp\;alt_style_1=passage-alt." target="_blank"><span style="color: rgb(7\, 130\, 193)\; font-size: 19.5pt\;"><span style="color: rgb(0\, 0\, 255)\;">CLICK&nbsp\;</span></span><span style="color: rgb(0\, 0\, 255)\;"><span style="font-size: 19.5pt\;">HERE</span></span></a>&nbsp\;</span></strong></span></strong></span></span><span style="box-sizing: border-box\;"><span style="box-sizing: border-box\;"><strong style="box-sizing: border-box\;"><span style="box-sizing: border-box\;"><span style="color: red\;"><span style="font-size: 19.5pt\;">for admission tickets.</span></span></span></strong></span></span><br style="box-sizing: border-box\;" />\n<span style="box-sizing: border-box\;">&nbsp\;<br style="box-sizing: border-box\;" />\n<span style="color: rgb(38\, 38\, 38)\;"><span style="font-size: 13.5pt\;"><span style="box-sizing: border-box\;"><span style="box-sizing: border-box\;">A typical balloon adventure is approximately three hours from set-up through pack-up with the actual flight lasting approximately 45 minutes. You will be returned to the launch site in your balloon&#39\;s chase vehicle.&nbsp\;</span></span></span></span><br style="box-sizing: border-box\;" />\n&nbsp\;<br style="box-sizing: border-box\;" />\n<span style="color: rgb(38\, 38\, 38)\;"><span style="font-size: 13.5pt\;"><span style="box-sizing: border-box\;"><span style="box-sizing: border-box\;">Balloon rides have been used for engagements\, weddings\, client rewards birthday/graduation gifts\, and a whole lot more. Don&#39\;t miss out on this once-in-a-lifetime experience!</span></span></span></span><br style="box-sizing: border-box\;" />\n&nbsp\;<br style="box-sizing: border-box\;" />\n<span style="color: rgb(38\, 38\, 38)\;"><span style="font-family: times\,serif\;"><span style="font-size: 13.5pt\;"><span style="box-sizing: border-box\;"><span style="box-sizing: border-box\;">Evening rides are $275 per person.</span></span></span></span></span></span><br style="box-sizing: border-box\;" />\n&nbsp\;<br style="box-sizing: border-box\;" />\n<span style="color: rgb(38\, 38\, 38)\;"><span style="font-family: times\,serif\;"><span style="font-size: 13.5pt\;"><span style="box-sizing: border-box\;"><span style="box-sizing: border-box\;">A $50&nbsp\;<strong style="box-sizing: border-box\;"><span style="font-family: times\,serif\;">non-refundable deposit</span></strong></span>&nbsp\;will be charged at the time of registration per person.</span></span></span></span><br style="box-sizing: border-box\;" />\n&nbsp\;<br style="box-sizing: border-box\;" />\n<span style="color: rgb(38\, 38\, 38)\;"><span style="font-family: times\,serif\;"><span style="font-size: 13.5pt\;"><span style="box-sizing: border-box\;"><span style="box-sizing: border-box\;">Please print your confirmation email and bring it as well as valid ID with you on the day of your ride.&nbsp\;</span></span></span></span></span><span style="color: rgb(40\, 40\, 40)\;"><span style="font-size: 13.5pt\;"><span style="box-sizing: border-box\;"><span style="box-sizing: border-box\;">All passengers MUST check-in at the Balloon Ride Tent to sign a liability waiver. The balance due will be paid upon arrival to the balloon ride tent. CASH ONLY.</span></span></span></span><br style="box-sizing: border-box\;" />\n&nbsp\;<br style="box-sizing: border-box\;" />\n<strong style="box-sizing: border-box\;"><span style="box-sizing: border-box\;"><span style="box-sizing: border-box\;"><span style="color: rgb(40\, 40\, 40)\;"><span style="font-size: 13.5pt\;">Please\, leave yourself plenty of travel time as traffic may cause significant delays. No refunds will be issued for missed rides due to late arrival.</span></span></span></span></strong><br style="box-sizing: border-box\;" />\n&nbsp\;<br style="box-sizing: border-box\;" />\n<span style="color: rgb(40\, 40\, 40)\;"><span style="font-size: 13.5pt\;"><span style="box-sizing: border-box\;"><span style="box-sizing: border-box\;">For evening flights\, check-in is at 5 p.m.</span></span></span></span><br />\n<br />\n<strong><span style="color: rgb(38\, 38\, 38)\; font-size: 18px\;">BALLON RIDE DISCLAIMER</span></strong><br />\n<span style="font-size: 14px\;"><span style="box-sizing: border-box\;"><span style="box-sizing: border-box\;"><strong style="box-sizing: border-box\;"><span style="box-sizing: border-box\;"><span style="box-sizing: border-box\;"><span style="box-sizing: border-box\;">By purchasing a Hot-Air Balloon Ride\, you agree to the following:</span></span></span></strong></span></span></span>\n\n<ul>\n	<li style="background: white\; color: rgb(51\, 51\, 51)\; box-sizing: border-box\;"><span style="box-sizing: border-box\;"><span style="box-sizing: border-box\;"><strong style="box-sizing: border-box\;"><span style="box-sizing: border-box\;"><span style="color: rgb(40\, 40\, 40)\;"><span style="font-size: 13.5pt\;">All sales are final.</span></span></span></strong></span></span><span style="font-family: arial\,sans-serif\;"><span style="font-size: 13.5pt\;">&nbsp\;<span style="color: rgb(26\, 26\, 26)\;"><span style="font-size: 13.5pt\;"><span style="box-sizing: border-box\;">If your launch is canceled for any reason\, if there is room at a later launch\, you will be asked to try and reschedule at check-in the day of the canceled launch. If\, at the end of the weekend\, NONE of the launches were successful\, the $50 deposit will be refunded.</span></span></span></span></span></li>\n	<li style="background: white\; color: rgb(51\, 51\, 51)\; box-sizing: border-box\;"><span style="box-sizing: border-box\;"><span style="box-sizing: border-box\;"><span style="color: rgb(40\, 40\, 40)\;"><span style="font-size: 13.5pt\;"><span style="box-sizing: border-box\;">All passengers must be tall enough to see over the side of the basket (approximately 48-inches).</span></span></span></span></span></li>\n	<li style="background: white\; color: rgb(51\, 51\, 51)\; box-sizing: border-box\;"><span style="box-sizing: border-box\;"><span style="box-sizing: border-box\;"><span style="color: rgb(40\, 40\, 40)\;"><span style="font-size: 13.5pt\;"><span style="box-sizing: border-box\;">Passengers should dress in comfortable clothing and closed-toe footwear.</span></span></span></span></span></li>\n	<li style="background: white\; color: rgb(51\, 51\, 51)\; box-sizing: border-box\;"><span style="box-sizing: border-box\;"><span style="box-sizing: border-box\;"><span style="color: rgb(40\, 40\, 40)\;"><span style="font-size: 13.5pt\;"><span style="box-sizing: border-box\;">All passengers should be able to jump off of a picnic table as you will need to climb into and out of the balloon basket and landings can be bumpy.</span></span></span></span></span></li>\n	<li style="background: white\; color: rgb(51\, 51\, 51)\; box-sizing: border-box\;"><span style="box-sizing: border-box\;"><span style="box-sizing: border-box\;"><strong style="box-sizing: border-box\;"><span style="box-sizing: border-box\;"><span style="color: rgb(40\, 40\, 40)\;"><span style="font-size: 13.5pt\;">Balloons are not handicapped accessible.</span></span></span></strong></span></span></li>\n	<li style="background: white\; color: rgb(51\, 51\, 51)\; box-sizing: border-box\;"><span style="box-sizing: border-box\;"><span style="box-sizing: border-box\;"><span style="color: rgb(40\, 40\, 40)\;"><span style="font-size: 13.5pt\;"><span style="box-sizing: border-box\;">All passengers\, willingly\, and voluntarily assume full responsibility for all risks of any and every kind involved with or arising from participation in hot-air balloon activities whether during flight preparation\, takeoff\, flight\, landing\, travel to or from the takeoff or landing areas\, or otherwise.&nbsp\;</span></span></span></span></span></li>\n	<li style="background: white\; color: rgb(51\, 51\, 51)\; box-sizing: border-box\;"><span style="box-sizing: border-box\;"><span style="box-sizing: border-box\;"><span style="color: rgb(40\, 40\, 40)\;"><span style="font-size: 13.5pt\;"><span style="box-sizing: border-box\;">In consideration for participation in this activity and with the intent to be legally bound all passengers release\, waive and relinquish all claims as a direct or indirect result of participation in this activity and irrevocably release all of the Parties\, (<span data-scayt-lang="en_US" data-scayt-word="Dutchess" style="background-position: 52% 100%\; box-sizing: border-box\;">Dutchess</span></span>&nbsp\;County <span style="font-size: 18px\;">Regional Chamber of Commerce\,&nbsp\;<span data-scayt-lang="en_US" data-scayt-word="Dutchess" style="background-position: 52% 100%\; box-sizing: border-box\;">Dutchess</span></span></span><span style="font-size: 18px\;">&nbsp\;County Fairgrounds\, or the individual balloonists) their employees\, agents\, representatives\, elected officials\, contractors\, subcontractors\, successors\, heirs\, assigns\, affiliates\, volunteers and legal representatives from\, and hold them harmless for\, all claims\, rights\, demands or causes of action\, whether known or unknown\, suspected or unsuspected\, arising out of the ballooning activities\, which may be had against the Parties in connection with ballooning activities with the Parties.</span></span></span></span></li>\n	<li style="background: white\; color: rgb(51\, 51\, 51)\; box-sizing: border-box\;"><span style="box-sizing: border-box\;"><span style="box-sizing: border-box\;"><span style="color: rgb(40\, 40\, 40)\;"><span style="font-size: 13.5pt\;"><span style="box-sizing: border-box\;">All passengers agree to make no claims against or sue any of the Parties for injuries\, death or property damage caused due to the ordinary negligence of the Parties or any dangerous conditions of any property upon which the ballooning activities may take place.</span></span></span></span></span></li>\n	<li style="background: white\; color: rgb(51\, 51\, 51)\; box-sizing: border-box\;"><span style="box-sizing: border-box\;"><span style="box-sizing: border-box\;"><strong style="box-sizing: border-box\;"><span style="box-sizing: border-box\;"><span style="color: rgb(40\, 40\, 40)\;"><span style="font-size: 13.5pt\;">Signing up for a balloon flight does not guarantee you will fly\, as flights are completely dependent on weather.&nbsp\;</span></span></span></strong></span></span><strong style="box-sizing: border-box\;"><span style="box-sizing: border-box\;"><span style="box-sizing: border-box\;"><span style="color: rgb(20\, 20\, 20)\;"><span style="font-size: 13.5pt\;">ALL BALLOONS TAKEOFF AT THE DISCRETION OF THE PILOT.&nbsp\;Sometimes\, due to impending weather and WIND or other conditions\, balloons will launch early/late or not at all.</span></span></span></span></strong></li>\n	<li style="background: white\; color: rgb(51\, 51\, 51)\; box-sizing: border-box\;"><span style="box-sizing: border-box\;"><span style="box-sizing: border-box\;"><span style="color: rgb(14\, 14\, 14)\;"><span style="font-size: 13.5pt\;"><span style="box-sizing: border-box\;">Basket sizes&nbsp\;vary&nbsp\;from balloon-to-balloon and are dependent on weight capacity\; therefore\, passengers may not be able to ride together. We will do our best to put all passengers together when possible and seldom separate twosomes\, but it is a possibility.</span></span></span></span></span></li>\n</ul>\n
LOCATION:Dutchess County Fairgrounds GPS Address: 6636 Route 9 ? Rhinebeck\, NY 12572 (Gate #1 Entrance All Events)
UID:e.2770.10480481
SEQUENCE:3
DTSTAMP:20260423T011939Z
URL:https://business.dcrcoc.org/events/details/hot-air-balloon-festival-rides-for-july-12-evening-launch-10480481
END:VEVENT

END:VCALENDAR
