BEGIN:VCALENDAR
VERSION:2.0
PRODID:-//ChamberMaster//Event Calendar 2.0//EN
METHOD:PUBLISH
X-PUBLISHED-TTL:P3D
REFRESH-INTERVAL:P3D
CALSCALE:GREGORIAN
BEGIN:VEVENT
DTSTART:20191102T130000Z
DTEND:20191102T190000Z
X-MICROSOFT-CDO-ALLDAYEVENT:FALSE
SUMMARY:How to Invest in Real Estate - Presented by American Dealmakers
DESCRIPTION:This seminar is focused on providing you pure information. There is no fluff - Just Facts!\n\nReal Estate Expert George F. Donohue will be sharing his knowledge with you\, along with several other guest speakers.\n\nThe seminar will run 9am - 3pm with an hour lunch break. Lunch included! You will also receive an Ebook copy of George's best selling book "Real Estate Dealmaking: A Property Investors Guide to Negotiating" free of charge!\n\nTopics we will cover include:\n\n- Learning about different types of investments\n\n- Active vs. passive investing\n\n- Best ways to acquire and finance properties\n\n- How to find great deals\n\n- How to be a better real estate negotiator\n\n- Buying foreclosures\n\n- Legal Aspects of Investing\n\n- How to get started/Choosing the right strategy\n\n- Learning the jargon\, such as Cap Rates\, IRR\, Cash Flow\, GRM\, etc.\n\n- Best tips on Flipping Houses\n\n- How to maximize profits and avoid losses\n\n- Learn the basics of REITs\n\n- Learn the best leases clauses to put into your tenant leases\n\n- Using the right professionals\n\n- Learn about 1031 Tax Exchanges\n\n- And more!\n\nWe cater directly to our guests. If there is a topic that you would like covered and don't see it on the list\, just let us know! We are happy to discuss it.
X-ALT-DESC;FMTTYPE=text/html:<p style="text-align:center"><strong>This seminar is focused on providing you pure information. There is no fluff - Just Facts!</strong></p>\n\n<p style="text-align:center">Real Estate Expert George F. Donohue will be sharing his knowledge with you\, along with several other guest speakers.</p>\n\n<p style="text-align:center">The seminar will run 9am - 3pm with an hour lunch break. Lunch included! You will also receive an Ebook copy of George&#39\;s best selling book &quot\;Real Estate Dealmaking: A Property Investors Guide to Negotiating&quot\; free of charge!</p>\n\n<p>Topics we will cover include:</p>\n\n<p>- Learning about different types of investments</p>\n\n<p>- Active vs. passive investing</p>\n\n<p>- Best ways to acquire and finance properties</p>\n\n<p>- How to find great deals</p>\n\n<p>- How to be a better real estate negotiator</p>\n\n<p>- Buying foreclosures</p>\n\n<p>- Legal Aspects of Investing</p>\n\n<p>- How to get started/Choosing the right strategy</p>\n\n<p>- Learning the jargon\, such as Cap Rates\, IRR\, Cash Flow\, GRM\, etc.</p>\n\n<p>- Best tips on Flipping Houses</p>\n\n<p>- How to maximize profits and avoid losses</p>\n\n<p>- Learn the basics of REITs</p>\n\n<p>- Learn the best leases clauses to put into your tenant leases</p>\n\n<p>- Using the right professionals</p>\n\n<p>- Learn about 1031 Tax Exchanges</p>\n\n<p>- And more!</p>\n\n<p style="text-align:center"><strong>We cater directly to our guests. If there is a topic that you would like covered and don&#39\;t see it on the list\, just let us know! We are happy to discuss it.&nbsp\;</strong></p>\n\n<p>&nbsp\;</p>\n\n<p>&nbsp\;</p>\n
LOCATION:Hampton Inn Middletown 20 Crystal Run Crossing Middletown\, NY\, 10941
UID:e.2770.10481478
SEQUENCE:3
DTSTAMP:20260422T171359Z
URL:https://business.dcrcoc.org/events/details/how-to-invest-in-real-estate-presented-by-american-dealmakers-10481478
END:VEVENT

END:VCALENDAR
