BEGIN:VCALENDAR
VERSION:2.0
PRODID:-//ChamberMaster//Event Calendar 2.0//EN
METHOD:PUBLISH
X-PUBLISHED-TTL:P3D
REFRESH-INTERVAL:P3D
CALSCALE:GREGORIAN
BEGIN:VEVENT
DTSTART:20210420T130000Z
DTEND:20210420T150000Z
X-MICROSOFT-CDO-ALLDAYEVENT:FALSE
SUMMARY:How to Leverage Certifications to Win Government Contracts
DESCRIPTION:Enhance your understanding of how to leverage your MWBE certification!\n\n\n\nLearning Outcomes:\n\n\n	\n	Tips for working with government agencies\n	\n	\n	Determine what state agencies purchase\n	\n	\n	Tips on how to market your goods or services\n	\n	\n	Best practices and pitfalls to avoid when bidding
X-ALT-DESC;FMTTYPE=text/html:<p><span style="font-size:16px">Enhance your understanding of how to leverage your MWBE certification!<br />\n<br />\n<strong>Learning Outcomes:</strong></span></p>\n\n<ul>\n	<li>\n	<p><span style="font-size:16px">Tips for working with government agencies</span></p>\n	</li>\n	<li>\n	<p><span style="font-size:16px">Determine what state agencies purchase</span></p>\n	</li>\n	<li>\n	<p><span style="font-size:16px">Tips on how to market your goods or services</span></p>\n	</li>\n	<li>\n	<p><span style="font-size:16px">Best practices and pitfalls to avoid when bidding</span></p>\n	</li>\n</ul>\n
LOCATION:Online
UID:e.2770.10484832
SEQUENCE:3
DTSTAMP:20260421T125518Z
URL:https://business.dcrcoc.org/events/details/how-to-leverage-certifications-to-win-government-contracts-10484832
END:VEVENT

END:VCALENDAR
