BEGIN:VCALENDAR
VERSION:2.0
PRODID:-//ChamberMaster//Event Calendar 2.0//EN
METHOD:PUBLISH
X-PUBLISHED-TTL:P3D
REFRESH-INTERVAL:P3D
CALSCALE:GREGORIAN
BEGIN:VEVENT
DTSTART:20200506T120000Z
DTEND:20200506T133000Z
X-MICROSOFT-CDO-ALLDAYEVENT:FALSE
SUMMARY:HR/Legal Guidance for Employers Getting Ready to Reopen
DESCRIPTION:The Dutchess County Regional Chamber of Commerce presents the next in its series of complimentary webinars to help businesses and organizations with issues related to COVID-19. This webinar will provide the latest guidance for employers from a legal and HR perspective. Panelists will be Ed Kowalski from Ethan Allen Workforce Solutions and David Wise from Mackey Butts and Wise LLP. Questions may be sent in advance to richk@dcrcoc.org\, and will be accepted near the end of the presentation. This webinar will be recorded and archived to watch on demand.\n\n\n\n \n\nRegister in advance for this webinar:\n\nhttps://us02web.zoom.us/webinar/register/WN_2CJHh6eEScSbUS4w6od24A\n\n\n\n \n\nAfter registering\, you will receive a confirmation email containing information about joining the webinar.
X-ALT-DESC;FMTTYPE=text/html:<div class="controls" style="background-color: transparent\; box-sizing: border-box\; color: rgb(35\, 35\, 51)\; font-size: 14px\; font-variant-numeric: normal\; font-variant-east-asian: normal\; margin-left: 100px\;">&nbsp\;</div>\n<span style="font-size:16px\;"><span style="font-family:times new roman\;"><span style="color:#232333\;">The Dutchess County Regional Chamber of Commerce presents the next in its series of complimentary webinars to help businesses and organizations with issues related to COVID-19. This webinar will provide the latest guidance for employers from a legal and HR perspective. Panelists will be Ed Kowalski from Ethan Allen Workforce Solutions and David Wise from Mackey Butts and Wise LLP. Questions may be sent in advance to </span><strong><a href="mailto:richk@dcrcoc.org"><span style="color:#0000FF\;">richk@dcrcoc.org</span></a></strong><span style="color:#232333\;">\, and will be accepted near the end of the presentation. This webinar will be recorded and archived to watch on demand.</span></span></span><br />\n<br />\n&nbsp\;<br />\n<span style="font-family:times new roman\,serif\;"><span style="font-size:14.0pt\;">Register in advance for this webinar:</span></span><br />\n<a href="https://us02web.zoom.us/webinar/register/WN_2CJHh6eEScSbUS4w6od24A" target="_blank"><strong><span style="color:#0000FF\;"><span style="font-size:16px\;"><span style="font-family:times new roman\;">https://us02web.zoom.us/webinar/register/WN_2CJHh6eEScSbUS4w6od24A</span></span></span></strong></a><br />\n<br />\n&nbsp\;<br />\n<span style="font-family:times new roman\,serif\;"><span style="font-size:14.0pt\;">After registering\, you will receive a confirmation email containing information about joining the webinar.</span></span><br />\n&nbsp\;<br />\n&nbsp\;
LOCATION:
UID:e.2770.10483276
SEQUENCE:3
DTSTAMP:20260422T064117Z
URL:https://business.dcrcoc.org/events/details/hr-legal-guidance-for-employers-getting-ready-to-reopen-10483276
END:VEVENT

END:VCALENDAR
