BEGIN:VCALENDAR
VERSION:2.0
PRODID:-//ChamberMaster//Event Calendar 2.0//EN
METHOD:PUBLISH
X-PUBLISHED-TTL:P3D
REFRESH-INTERVAL:P3D
CALSCALE:GREGORIAN
BEGIN:VEVENT
DTSTART:20180922T210000Z
DTEND:20180923T010000Z
X-MICROSOFT-CDO-ALLDAYEVENT:FALSE
SUMMARY:Hudson River Rowing Association Celebrates 20 Years of Rowing on the Hudson
DESCRIPTION:We are excited to announce that Hudson River Rowing Association (HRRA) will be celebrating 20 years of impact in the Hudson Valley rowing community.\n\nHRRA was instituted in the summer of 1998 when local coaches from Roosevelt\, Arlington\, Poughkeepsie\, Spackenkill\, and Lourdes High Schools used their combined resources to create a club that would grant additional water time and coaching for junior rowers outside of their scholastic spring seasons\, as well as provide rowing opportunities for adults looking to increase their physical fitness or continue their competitive careers. Since then\, HRRA has built an incredible boathouse to house seven local high schools\, which has expanded to include Rhinebeck and Wappingers Crew Club\, as well as two adult masters teams.\n\nHRRA continues to broaden its programs and offerings to the community. Each year\, HRRA provides extensive club rowing opportunities for hundreds of people of all ages and abilities in the Hudson Valley. Our continued goal is to grow our waterfront community where people can excel both physically and mentally through rowing.\n\nWe hope you will join us for an evening of great food provided by Rossi's\, beer/wine\, live music from Outside the Box\, silent auction\, raffles and giveaways.\n\n\n\nFor more info on the event \, our Alumni row planned for the day and to Buy your tickets visit http://www.hudsonriverrowing.org/
X-ALT-DESC;FMTTYPE=text/html:<p><span style="font-size:12px"><span style="background-color:transparent">We are excited to announce that Hudson River Rowing Association (HRRA) will be celebrating 20 years of impact in the Hudson Valley rowing community.</span></span></p>\n\n<p><span style="font-size:12px"><span style="background-color:transparent">HRRA was instituted in the summer of 1998 when local coaches from Roosevelt\, Arlington\, Poughkeepsie\, Spackenkill\, and Lourdes High Schools used their combined resources to create a club that would grant additional water time and coaching for junior rowers outside of their scholastic spring seasons\, as well as provide rowing opportunities for adults looking to increase their physical fitness or continue their competitive careers. Since then\, HRRA has built an incredible boathouse to house seven local high schools\, which has expanded to include Rhinebeck and Wappingers Crew Club\, as well as two adult masters teams.</span></span></p>\n\n<p><span style="background-color:transparent\; font-size:12px">HRRA continues to broaden its programs and offerings to the community. Each year\, HRRA provides extensive club rowing opportunities for hundreds of people of all ages and abilities in the Hudson Valley. Our continued goal is to grow our waterfront community where people can excel both physically and mentally through rowing.</span></p>\n\n<p style="margin-left:0px\; margin-right:0px\; text-align:left"><span style="font-size:12px">We hope you will join us for an evening of great food provided by Rossi&#39\;s\, beer/wine\, live music from Outside the Box\, silent auction\, raffles and giveaways.<br />\n<br />\nFor more info on the event \, our Alumni row planned for the day and to Buy your tickets visit http://www.hudsonriverrowing.org/</span></p>\n\n<div style="text-align:left">\n<p style="margin-left:0px\; margin-right:0px">&nbsp\;</p>\n</div>\n
LOCATION:Hudson River Rowing Association 270-272 North Water Street Poughkeepsie\, New York 12603
UID:e.2770.10479667
SEQUENCE:3
DTSTAMP:20260425T131745Z
URL:https://business.dcrcoc.org/events/details/hudson-river-rowing-association-celebrates-20-years-of-rowing-on-the-hudson-10479667
END:VEVENT

END:VCALENDAR
