BEGIN:VCALENDAR
VERSION:2.0
PRODID:-//ChamberMaster//Event Calendar 2.0//EN
METHOD:PUBLISH
X-PUBLISHED-TTL:P3D
REFRESH-INTERVAL:P3D
CALSCALE:GREGORIAN
BEGIN:VEVENT
DTSTART:20180130T000000Z
DTEND:20180130T020000Z
X-MICROSOFT-CDO-ALLDAYEVENT:FALSE
SUMMARY:Hudson River Rowing Association- Presents Meghan Musnicki- Two Time Olympic Gold Medalist
DESCRIPTION:Hudson River Rowing Association presents two-time gold medalist and five-time world champion rower\, Meghan Musnicki on Monday\, January 29\, 2018 @7:00pm at the Hudson River Rowing  Association Community Boathouse\, located at 272 N. Water Street\, Poughkeepsie\, NY. \nCome join us as Meghan discusses hard work\, teamwork\, overcoming adversity\, and the quest for Olympic gold! \n\n\n\nTickets available ahead of time online for $5. Tickets will be $10 day of.\n\n \n\n*To buy tickets\, please visit: www.hudsonriverrowing.org \n\n\nWe hope you will join us!\n\n \n\nThank you to our sponsors Josh Stratton from Stratton Financial and Justin Feldman from Feldman Physical Therapy
X-ALT-DESC;FMTTYPE=text/html:<div>Hudson River Rowing Association presents two-time gold medalist and five-time world champion rower\, <strong>Meghan Musnicki on Monday\, January 29\, 2018</strong> <strong>@7:00pm </strong>at the Hudson River Rowing&nbsp\; Association Community Boathouse\, located at 272 N. Water Street\, Poughkeepsie\, NY.&nbsp\;\n<div>Come join us as Meghan discusses hard work\, teamwork\, overcoming adversity\, and the quest for Olympic gold!&nbsp\;</div>\n\n<div><br />\nTickets available ahead of time online for $5. Tickets will be $10 day of.</div>\n\n<div>&nbsp\;</div>\n\n<div><strong>*To buy tickets\, please visit:&nbsp\;</strong><a href="http://r20.rs6.net/tn.jsp?f=001s6gn9l-xTiAy3PDRPiIxbIHVmoQN3tcIRO9epTnBVwo7fkqODDEkRUjgSnY7Y1kXByg8cVakVqY5pdrdahekXezIGpEtBdoPjuS5ETeGt73b89UXVxQaHFHvBqUcT3lk_2rOLTXJLLmD3Vl28RTwoHzAGdTLpoQpdWBegIx8lqn8dlMzwxbxuw==&amp\;c=ICF3MP0MfizVUFXe8EiULyGnsiSfDXvK_XC3GhFR11tSYnlyjg8Mdw==&amp\;ch=e7rBI8Of7-pMT33uJsxlhdwEfMvrQ1srbcHw82iE3p1NZlX31q1uVw==" style="color: rgb(0\, 77\, 180)\; font-weight: bold\;" target="_blank">www.hudsonriverrowing.org</a>&nbsp\;</div>\n<br />\nWe hope you will join us!<br />\n&nbsp\;\n<div>\n<div><strong>Thank you to our sponsors Josh Stratton from <a href="http://www.joshua-stratton.com/">Stratton Financial </a>and Justin Feldman from <a href="http://www.feldmanphysicaltherapy.com/">Feldman Physical Therapy</a></strong></div>\n</div>\n</div>\n
LOCATION:Hudson River Rowing Association\, Second Floor Regatta Room 272 N. Water Street\, Poughkeepsie\, NY 12602 Website - www.hudsonriverrowing.org Phone- 845-206-4765
UID:e.2770.10476700
SEQUENCE:3
DTSTAMP:20260425T232404Z
URL:https://business.dcrcoc.org/events/details/hudson-river-rowing-association-presents-meghan-musnicki-two-time-olympic-gold-medalist-10476700
END:VEVENT

END:VCALENDAR
