BEGIN:VCALENDAR
VERSION:2.0
PRODID:-//ChamberMaster//Event Calendar 2.0//EN
METHOD:PUBLISH
X-PUBLISHED-TTL:P3D
REFRESH-INTERVAL:P3D
CALSCALE:GREGORIAN
BEGIN:VEVENT
DTSTART:20171118T150000Z
DTEND:20171118T210000Z
X-MICROSOFT-CDO-ALLDAYEVENT:FALSE
SUMMARY:Hudson Valley Artisan Showcase Event
DESCRIPTION:Come meet the artists behind the work at Craftsmen by Design. They will be happy to discuss their particular craft with you and may have items not usually in the shop. A great way to support local talent.
X-ALT-DESC;FMTTYPE=text/html:Come meet the artists behind the work at Craftsmen by Design. They will be happy to discuss their particular craft with you and may have items not usually in the shop. A great way to support local talent.
LOCATION:The Poughkeepsie Plaza 2600 South Rd\, Poughkeepsie\, NY 12601
UID:e.2770.10476371
SEQUENCE:3
DTSTAMP:20260426T020535Z
URL:https://business.dcrcoc.org/events/details/hudson-valley-artisan-showcase-event-10476371
END:VEVENT

END:VCALENDAR
