BEGIN:VCALENDAR
VERSION:2.0
PRODID:-//ChamberMaster//Event Calendar 2.0//EN
METHOD:PUBLISH
X-PUBLISHED-TTL:P3D
REFRESH-INTERVAL:P3D
CALSCALE:GREGORIAN
BEGIN:VEVENT
DTSTART:20190310T150000Z
DTEND:20190310T200000Z
X-MICROSOFT-CDO-ALLDAYEVENT:FALSE
SUMMARY:Hudson Valley Auto Show
DESCRIPTION:The Hudson Valley Auto Show returns to the Mid Hudson Civic Center Sunday March 10th. You don't have to go to New York City to experience all the new Sport and Family Cars\, Trucks and Crossovers on display from a dozen manufacturers. Not only will there be dozens of cars for you to compare but advisers on financing and ways to customize and care for your new ride. And plenty of kids' activities including face painting and balloon art. But it's only Sunday March 10th from 11-4 pm at the Mid Hudson Civic Center. Best of all\, it's still free for the whole family\, and benefits local charities through the Poughkeepsie South Rotary Club. Free parking at the Financial Plaza municipal parking lot on Market Street. And a special bonus this year   every attendee will receive discounted skate time at the MJ Nesheiwat Convention Center Ice Rink for Sunday! Go to hudsonvalleyautoshow.com for dealers and details.
X-ALT-DESC;FMTTYPE=text/html:The Hudson Valley Auto Show returns to the Mid Hudson Civic Center Sunday March 10th. You don&rsquo\;t have to go to New York City to experience all the new Sport and Family Cars\, Trucks and Crossovers on display from a dozen manufacturers. Not only will there be dozens of cars for you to compare but advisers on financing and ways to customize and care for your new ride. And plenty of kids&#39\; activities including face painting and balloon art. But it&rsquo\;s only Sunday March 10th from 11-4 pm at the Mid Hudson Civic Center. Best of all\, it&rsquo\;s still free for the whole family\, and benefits local charities through the Poughkeepsie South Rotary Club. Free parking at the Financial Plaza municipal parking lot on Market Street. And a special bonus this year &ndash\; every attendee will receive discounted skate time at the MJ Nesheiwat Convention Center Ice Rink for Sunday! Go to hudsonvalleyautoshow.com for dealers and details.
LOCATION:MJ Nesheiwat Convention Center (formerly the Mid-Hudson Civic Center)\, 14 Civic Center Plaza\, Poughkeepsie\, NY 12601
UID:e.2770.10480534
SEQUENCE:3
DTSTAMP:20260423T081552Z
URL:https://business.dcrcoc.org/events/details/hudson-valley-auto-show-10480534
END:VEVENT

END:VCALENDAR
