BEGIN:VCALENDAR
VERSION:2.0
PRODID:-//ChamberMaster//Event Calendar 2.0//EN
METHOD:PUBLISH
X-PUBLISHED-TTL:P3D
REFRESH-INTERVAL:P3D
CALSCALE:GREGORIAN
BEGIN:VEVENT
DTSTART:20180726T113000Z
DTEND:20180726T150000Z
X-MICROSOFT-CDO-ALLDAYEVENT:FALSE
SUMMARY:Hudson Valley Cybersecurity Workshop
DESCRIPTION:Cybersecurity compliance is no longer flying under the radar for manufacturing. There are new requirements raising the stakes for manufacturers that have to be acknowledged and addressed in order to stay competitive. NIST's 800-171 Cyber Security Standard\, now a requirement for defense contractors\, is a model being adopted across the board in the automotive supply chain\, and more manufacturers will be under scrutiny soon. Will you be ready?
X-ALT-DESC;FMTTYPE=text/html:Cybersecurity compliance is no longer flying under the radar for manufacturing. There are new requirements raising the stakes for manufacturers that have to be acknowledged and addressed in order to stay competitive. NIST&rsquo\;s 800-171 Cyber Security Standard\, now a requirement for defense contractors\, is a model being adopted across the board in the automotive supply chain\, and more manufacturers will be under scrutiny soon. Will you be ready?
LOCATION:SUNY New Paltz Science Hall\, Room 181 1 Hawk Drive New Paltz\, NY 12561
UID:e.2770.10478053
SEQUENCE:3
DTSTAMP:20260425T154808Z
URL:https://business.dcrcoc.org/events/details/hudson-valley-cybersecurity-workshop-10478053
END:VEVENT

END:VCALENDAR
