BEGIN:VCALENDAR
VERSION:2.0
PRODID:-//ChamberMaster//Event Calendar 2.0//EN
METHOD:PUBLISH
X-PUBLISHED-TTL:P3D
REFRESH-INTERVAL:P3D
CALSCALE:GREGORIAN
BEGIN:VEVENT
DTSTART:20171014T120000Z
DTEND:20171014T180000Z
X-MICROSOFT-CDO-ALLDAYEVENT:FALSE
SUMMARY:Hudson Valley Estate Planning Day
DESCRIPTION:Please join us at Estate Planning Day\, Saturday\, October 14\, 2017\, at Marist College. It's never too late to plan. Learn the best techniques from\, and have your questions answered by\, renowned experts in the estate planning field. Continental Breakfast/Lunch and Bound Guide with valuable information
X-ALT-DESC;FMTTYPE=text/html:Please join us at Estate Planning Day\, Saturday\, October 14\, 2017\, at Marist College. It&#39\;s never too late to plan. Learn the best techniques from\, and have your questions answered by\, renowned experts in the estate planning field. Continental Breakfast/Lunch and Bound Guide with valuable information
LOCATION:Marist College Student Center\, Poughkeepsie\, NY
UID:e.2770.10476330
SEQUENCE:3
DTSTAMP:20260426T033351Z
URL:https://business.dcrcoc.org/events/details/hudson-valley-estate-planning-day-10476330
END:VEVENT

END:VCALENDAR
