BEGIN:VCALENDAR
VERSION:2.0
PRODID:-//ChamberMaster//Event Calendar 2.0//EN
METHOD:PUBLISH
X-PUBLISHED-TTL:P3D
REFRESH-INTERVAL:P3D
CALSCALE:GREGORIAN
BEGIN:VEVENT
DTSTART:20180605T163000Z
DTEND:20180605T230000Z
X-MICROSOFT-CDO-ALLDAYEVENT:FALSE
SUMMARY:Hudson Valley Film Industry Conference
DESCRIPTION:This exciting conference will focus on how individuals and businesses can be involved in the film industry in the Hudson Valley\, with breakout topics on casting\, job training\, film festivals and local economic development   plus there will be networking opportunities.\n\n \n\nIt's a great opportunity for local businesses\, including caterers and hotels\, to learn about how they can work with the film industry. Sponsorships\, tickets\, and more information about the event can be found here: https://dutchesstourism.com/hv-filmconference
X-ALT-DESC;FMTTYPE=text/html:<span style="font-size: medium\;"><span style="font-family: calibri\;">This exciting conference will focus on how individuals and businesses can be involved in the film industry in the Hudson Valley\, with breakout topics on casting\, job training\, film festivals and local economic development &ndash\; plus there will be networking opportunities.</span></span><br />\n&nbsp\;<br />\n<span style="font-size: medium\;"><span style="font-family: calibri\;">It&rsquo\;s a great opportunity for local businesses\, including caterers and hotels\, to learn about how they can work with the film industry. Sponsorships\, tickets\, and more information about the event can be found here: </span></span><a href="https://na01.safelinks.protection.outlook.com/?url=https%3A%2F%2Fdutchesstourism.com%2Fhv-filmconference&amp\;data=02%7C01%7Cfrank%40dcrcoc.org%7C7cf87898fa224090b2be08d5bc20699c%7C2f12d5574b0742e1bc30171797d71f6b%7C1%7C0%7C636621770748861507&amp\;sdata=rt3B4%2F5taKRYM1v%2F1TSEUMXnGPhLIF6U88UBtMw6ZfQ%3D&amp\;reserved=0"><span style="font-size: medium\;"><span style="font-family: calibri\;"><span style="color: rgb(5\, 99\, 193)\;">https://dutchesstourism.com/hv-filmconference</span></span></span></a>
LOCATION:The Culinary Institute of America
UID:e.2770.10477817
SEQUENCE:3
DTSTAMP:20260425T171055Z
URL:https://business.dcrcoc.org/events/details/hudson-valley-film-industry-conference-10477817
END:VEVENT

END:VCALENDAR
