BEGIN:VCALENDAR
VERSION:2.0
PRODID:-//ChamberMaster//Event Calendar 2.0//EN
METHOD:PUBLISH
X-PUBLISHED-TTL:P3D
REFRESH-INTERVAL:P3D
CALSCALE:GREGORIAN
BEGIN:VEVENT
DTSTART:20180811T210000Z
DTEND:20180812T020000Z
X-MICROSOFT-CDO-ALLDAYEVENT:FALSE
SUMMARY:Hudson Valley Flamenco Festival
DESCRIPTION:The Hudson Valley Flamenco Festival is part traditional arts festival and part experiential performance art. Its mission is to empower the artist in individuals and to strengthen community bonds through exploring flamenco's roots as the people's art.
X-ALT-DESC;FMTTYPE=text/html:The Hudson Valley Flamenco Festival is part traditional arts festival and part experiential performance art. Its mission is to empower the artist in individuals and to strengthen community bonds through exploring flamenco&#39\;s roots as the people&#39\;s art.
LOCATION:Rosendale Theatre
UID:e.2770.10476793
SEQUENCE:3
DTSTAMP:20260425T144626Z
URL:https://business.dcrcoc.org/events/details/hudson-valley-flamenco-festival-10476793
END:VEVENT

END:VCALENDAR
