BEGIN:VCALENDAR
VERSION:2.0
PRODID:-//ChamberMaster//Event Calendar 2.0//EN
METHOD:PUBLISH
X-PUBLISHED-TTL:P3D
REFRESH-INTERVAL:P3D
CALSCALE:GREGORIAN
BEGIN:VEVENT
DTSTART:20191120T170000Z
DTEND:20191120T190000Z
X-MICROSOFT-CDO-ALLDAYEVENT:FALSE
SUMMARY:Hudson Valley Game Lunch
DESCRIPTION:Join us in celebrating all things Hudson Valley at this extraordinary four-course lunch at American Bounty Restaurant at The Culinary Institute of America. This meal will feature local game meats and birds along with wine from Millbrook Vineyards\, and\, of course\, dessert.
X-ALT-DESC;FMTTYPE=text/html:Join us in celebrating all things Hudson Valley at this extraordinary four-course lunch at American Bounty Restaurant at The Culinary Institute of America. This meal will feature local game meats and birds along with wine from Millbrook Vineyards\, and\, of course\, dessert.
LOCATION:American Bounty Restaurant at The Culinary Institute of America 1946 Campus Drive (Route 9) Hyde Park\, NY 12538
UID:e.2770.10481470
SEQUENCE:3
DTSTAMP:20260422T182827Z
URL:https://business.dcrcoc.org/events/details/hudson-valley-game-lunch-10481470
END:VEVENT

END:VCALENDAR
