BEGIN:VCALENDAR
VERSION:2.0
PRODID:-//ChamberMaster//Event Calendar 2.0//EN
METHOD:PUBLISH
X-PUBLISHED-TTL:P3D
REFRESH-INTERVAL:P3D
CALSCALE:GREGORIAN
BEGIN:VEVENT
DTSTART:20180429T150000Z
DTEND:20180429T200000Z
X-MICROSOFT-CDO-ALLDAYEVENT:FALSE
SUMMARY:Hudson Valley KidVenture
DESCRIPTION:Visit www.HVKidVenture.org for complete event information and tickets.\n\n\n\n2018 Sponsors:\n\n\n\nPresenting Sponsor: IBM Corporation\n\n \n\nPremier Sponsor: Central Hudson Gas & Electric Corporation\n\n \n\nAccessibility & Inclusion Sponsor: Abilities First\n\n \n\nGold Sponsors: Dutchess County Government\, Mackey Butts & Wise\, LLP\, Poughkeepsie Galleria\, ShopRite Supermarkets\, Inc.\n\n  \n\nSilver Sponsors: Adams Fairacre Farms\, Camp Hillcroft\, Dutchess Day School\, Mobile Life Support Services\, Inc.\, Royal Carting Service Company\, ServiceMaster Restore dba Nest Restoration Services\, Stenger\, Roberts\, Davis & Diamond LLP\, TEG Federal Credit Union\, The Ugly Mug\n\n \n\nMedia Sponsors: iHeart Media\, Poughkeepsie Galleria\, Pamal Broadcasting\, Ltd.\, Poughkeepsie Journal Media\, Hudson Valley Parent\n\n \n\nCommunity Partners: City of Poughkeepsie\, Changepoint Church\, Mid-Hudson Civic Center\, Page Park Associates\, LLC\, Poughkeepsie Grand Hotel & Conference Center\, Mid-Hudson Children's Museum\n\n \n\nSocia Media Partner: H.V. Social Media
X-ALT-DESC;FMTTYPE=text/html:<span style="font-size: 14px\;"><span style="font-family: arial\;">Visit <a href="http://www.HVKidVenture.org">www.HVKidVenture.org</a> for complete event information and tickets.</span></span><br />\n<br />\n<span style="font-size: 14px\;"><span style="font-family: arial\;">2018 Sponsors:</span></span><br />\n<br />\n<strong>Presenting Sponsor:</strong>&nbsp\;<span style="color: black\;">IBM Corporation</span><br />\n&nbsp\;<br />\n<strong>Premier Sponsor</strong>:&nbsp\;<span style="color: black\;">Central Hudson Gas &amp\; Electric Corporation</span><br />\n&nbsp\;<br />\n<strong>Accessibility &amp\; Inclusion Sponsor:</strong>&nbsp\;Abilities First<br />\n&nbsp\;<br />\n<strong>Gold Sponsors:&nbsp\;</strong><span style="background-image: initial\; background-position: initial\; background-size: initial\; background-repeat: initial\; background-attachment: initial\; background-origin: initial\; background-clip: initial\;"><span style="color: black\;">Dutchess&nbsp\;County Government\,&nbsp\;</span></span><span style="color: black\;">Mackey Butts &amp\; Wise\, LLP\,&nbsp\;</span>Poughkeepsie Galleria\,&nbsp\;<span style="color: black\;">ShopRite&nbsp\;Supermarkets\, Inc.</span><br />\n&nbsp\;&nbsp\;<br />\n<strong>Silver Sponsors:&nbsp\;</strong>Adams&nbsp\;Fairacre&nbsp\;Farms\, Camp&nbsp\;Hillcroft\,&nbsp\;Dutchess&nbsp\;Day School\,&nbsp\;<span style="color: black\;">Mobile Life Support Services\, Inc.</span>\, Royal Carting Service Company\,&nbsp\;<span style="background-image: initial\; background-position: initial\; background-size: initial\; background-repeat: initial\; background-attachment: initial\; background-origin: initial\; background-clip: initial\;"><span style="color: black\;">ServiceMaster Restore&nbsp\;dba&nbsp\;Nest Restoration Services</span></span>\,&nbsp\;<span style="color: black\;">Stenger\, Roberts\, Davis &amp\; Diamond LLP</span>\,&nbsp\;TEG&nbsp\;Federal Credit Union\, The Ugly Mug<br />\n&nbsp\;<br />\n<strong>Media Sponsors:</strong>&nbsp\;iHeart&nbsp\;Media\, Poughkeepsie Galleria\,&nbsp\;<span style="color: black\;">Pamal&nbsp\;Broadcasting\, Ltd.</span>\, Poughkeepsie Journal Media\, Hudson Valley Parent<br />\n&nbsp\;<br />\n<strong>Community Partners:</strong>&nbsp\;City of Poughkeepsie\,&nbsp\;Changepoint&nbsp\;Church\, Mid-Hudson Civic Center\,&nbsp\;<span style="background-image: initial\; background-position: initial\; background-size: initial\; background-repeat: initial\; background-attachment: initial\; background-origin: initial\; background-clip: initial\;"><span style="color: black\;">Page Park Associates\, LLC</span></span>\, Poughkeepsie Grand Hotel &amp\; Conference Center\, Mid-Hudson Children&rsquo\;s Museum<br />\n&nbsp\;<br />\n<strong>Socia&nbsp\;Media Partner:&nbsp\;</strong>H.V. Social Media
LOCATION:
UID:e.2770.10476385
SEQUENCE:3
DTSTAMP:20260425T195048Z
URL:https://business.dcrcoc.org/events/details/hudson-valley-kidventure-04-29-2018-10476385
END:VEVENT

END:VCALENDAR
